BEGIN:VCALENDAR
VERSION:2.0
PRODID:-//wp-events-plugin.com//7.2.3.1//EN
TZID:Europe/Berlin
X-WR-TIMEZONE:Europe/Berlin
BEGIN:VEVENT
UID:5084@frauenportal.koeln
DTSTART;TZID=Europe/Berlin:20240605T183000
DTEND;TZID=Europe/Berlin:20240605T200000
DTSTAMP:20240603T082519Z
URL:https://frauenportal.koeln/veranstaltungen/ilc-koeln-kuenstliche-intel
 ligenz-und-die-zukunft-der-menschheit/
SUMMARY:ILC Köln: Künstliche Intelligenz und die Zukunft der Menschheit
DESCRIPTION:Der Termin findet nicht statt.Zahlreiche Wissenschaftlerinnen u
 nd Wissenschaftler haben Prognosen erstellt\, welche Auswirkungen diese Te
 chnik in den verschiedenen Bereichen des menschlichen Lebens haben wird. D
 r. Zecha wird diese Prognosen beleuchten. Es geht dabei nicht nur um den t
 echnischen Fortschritt\, sondern auch um die konkreten Auswirkungen auf da
 s zukünftige Leben der Menschen.\n\nReferent:\nDr. habil. Michael Zecha\n
 \nVeranstalterin:\nInternationaler Lyceum Club Köln e.V.\n\nAnsprechpartn
 erin:\nHeidi Esser\, E-Mail: info@lyceumclub-koeln.de\n\nKosten / Anmeldun
 g:\nKosten: 5 € pro Person. Anmeldung bitte per Email an info@lyceumclub
 -koeln.de oder telefonisch unter 0176 2766 6632.\n\nTreffpunkt:\nBistro 
 “Alte Post” in der Residenz am Dom.\nAnschließend besteht die Möglic
 hkeit der Einkehr im Restaurant "Artrium" der Residenz am Dom.
LOCATION:Residenz am Dom\, An den Dominikanern 6-8\, 50668 Köln
GEO:50.9426732;6.9537492
X-APPLE-STRUCTURED-LOCATION;VALUE=URI;X-ADDRESS=An den Dominikanern 6-8\, K
 öln\, 50668\, Veranstaltungsort\, Deutschland;X-APPLE-RADIUS=100;X-TITLE=
 Residenz am Dom:geo:50.9426732,6.9537492
END:VEVENT
BEGIN:VTIMEZONE
TZID:Europe/Berlin
X-LIC-LOCATION:Europe/Berlin
BEGIN:DAYLIGHT
DTSTART:20240331T030000
TZOFFSETFROM:+0100
TZOFFSETTO:+0200
TZNAME:CEST
END:DAYLIGHT
END:VTIMEZONE
END:VCALENDAR