BEGIN:VCALENDAR
VERSION:2.0
PRODID:-//wp-events-plugin.com//7.2.3.1//EN
TZID:Europe/Berlin
X-WR-TIMEZONE:Europe/Berlin
BEGIN:VEVENT
UID:2073@frauenportal.koeln
DTSTART;TZID=Europe/Berlin:20190927T180000
DTEND;TZID=Europe/Berlin:20190927T200000
DTSTAMP:20190830T171810Z
URL:https://frauenportal.koeln/veranstaltungen/ilc-koeln-raus-aus-dem-scha
 tten/
SUMMARY:ILC Köln: Raus aus dem Schatten
DESCRIPTION:Zum Bauhaus-Jubiläum wird an die bekannten unbekannten Frauen 
 des Bauhauses erinnert.\nIhr Können wurde weniger ernst genommen\, als da
 s der Männer.\n\nReferentin:\nSabine Ponwenger\n\nVeranstalterin:\nIntern
 ationaler Lyceum Club Köln e.V.\n\nAnsprechpartnerin:\nRenate Cimiotti\, 
 E-Mail: info@lyceumclub-koeln.de\n\nKosten / Anmeldung:\nBeitrag für Gäs
 te: 5\,00 €. Anmeldung bis eine Woche vorher bei Frau Kusserow\, E-Mail:
  r.kusserow@t-online.de\, Tel. 0221 / 7123814.\n\nVeranstaltungsort:\nGesc
 häftsstelle ILC Köln\, Albertusstr. 13-17\, 1. Etage\, 50667 Köln\, [ma
 p id=14040]
END:VEVENT
BEGIN:VTIMEZONE
TZID:Europe/Berlin
X-LIC-LOCATION:Europe/Berlin
BEGIN:DAYLIGHT
DTSTART:20190331T030000
TZOFFSETFROM:+0100
TZOFFSETTO:+0200
TZNAME:CEST
END:DAYLIGHT
END:VTIMEZONE
END:VCALENDAR