BEGIN:VCALENDAR
VERSION:2.0
PRODID:-//wp-events-plugin.com//7.2.3.1//EN
TZID:Europe/Berlin
X-WR-TIMEZONE:Europe/Berlin
BEGIN:VEVENT
UID:3758@frauenportal.koeln
DTSTART;TZID=Europe/Berlin:20220514T104500
DTEND;TZID=Europe/Berlin:20220514T121500
DTSTAMP:20220430T094038Z
URL:https://frauenportal.koeln/veranstaltungen/ilc-koeln-roms-fliessende-g
 renzen/
SUMMARY:ILC Köln: „Roms fließende Grenzen“
DESCRIPTION:Führung durch die Sonderausstellung des Römisch-Germanischen 
 Museums und Jüdischen Museums im Archäologischen Quartier im Kulturzentr
 um am Neumarkt.\n\nAnlässlich der Ernennung der römischen Grenze „Nied
 er-germanischer Limes“ zum UNESCO-Weltkulturerbe gibt es auch in Köln e
 ine umfassende Sonderausstellung: Noch heute zeugen zahlreiche Spuren von 
 der großen Bedeutung des damaligen Kölns als einstige Hauptstadt der rö
 mischen Provinz Niedergermanien. Gemeinsam wrden die neuesten Schätze aus
  dem Kölner Untergrund betrachtet und es gibt einen Einblick in die jüng
 sten Forschungsergebnisse – und was davon letztendlich mit unserem heuti
 gen Alltag zu tun hat.\n\nDie ILC-Stipendiatin Aleksandra Kruglova führt 
 durch die Ausstellung.\n\nIm Anschluss Einkehr in ein nahegelegenes Restau
 rant.\n\nVeranstalterin:\nInternationaler Lyceum Club Köln e.V.\n\nAnspre
 chpartnerin:\nHeidi Esser\, E-Mail: info@lyceumclub-koeln.de\n\nKosten / A
 nmeldung:\nKostenbeitrag für Gäste: 5 € zzgl. Museums-Eintritt. Anmeld
 ung bitte bis spätestens 1 Woche vorher bei Rosemarie Kusserow\, Tel. 022
 1 / 7123814 oder unter r.kusserow@t-online.de\n\nVeranstaltungsort:\nTreff
 punkt: Eingang des Rautenstrauch-Joest-Museums\, Cäcilienstr. 29-33\, 506
 67 Köln\, [map id=927]\n
END:VEVENT
BEGIN:VTIMEZONE
TZID:Europe/Berlin
X-LIC-LOCATION:Europe/Berlin
BEGIN:DAYLIGHT
DTSTART:20220327T030000
TZOFFSETFROM:+0100
TZOFFSETTO:+0200
TZNAME:CEST
END:DAYLIGHT
END:VTIMEZONE
END:VCALENDAR