BEGIN:VCALENDAR
VERSION:2.0
PRODID:-//wp-events-plugin.com//7.2.3.1//EN
TZID:Europe/Berlin
X-WR-TIMEZONE:Europe/Berlin
BEGIN:VEVENT
UID:3251@frauenportal.koeln
DTSTART;TZID=Europe/Berlin:20210527T190000
DTEND;TZID=Europe/Berlin:20210527T210000
DTSTAMP:20210506T080859Z
URL:https://frauenportal.koeln/veranstaltungen/ilc-koeln-schlummere-sanft-
 teure-frau/
SUMMARY:ILC Köln: „Schlummere sanft\, teure Frau“
DESCRIPTION: – Online-Vortrag von Irene Franken –\n\nDer Melaten-Friedh
 of ist ein aufgeschlagenes Geschichtsbuch: Wir finden darin Hinweise über
  das Rollenverständnis des 19. Jahrhunderts und die Frau als Trauernde wi
 e auch berühmte und unbekannte Frauen aus Köln mit pompösen oder unsche
 inbareren Gräbern. Auf Melaten begegnen uns u.a. Laura Oelbermann\, deren
  Reichtum sprichwörtlich war\, sowie die Klosterfrau\, die den berühmten
  Melissengeist erfand.\n\nIn ihrem Vortrag berichtet Irene Franken auch ü
 ber die Zuständigkeit der Frau für den Tod und erzählt die Vorgeschicht
 e des Friedhofs als Siechenhaus für Leprakranke.\n\nVeranstalterin:\nInte
 rnationaler Lyceum Club Köln e.V.\n\nAnsprechpartnerin:\nRenate Cimiotti\
 , E-Mail: info@lyceumclub-koeln.de\n\nKosten / Anmeldung:\nAnmeldung bis 2
 5.05.2021 erbeten unter info@lyceumclub-koeln.de\n\nVeranstaltungsort:\non
 line
END:VEVENT
BEGIN:VTIMEZONE
TZID:Europe/Berlin
X-LIC-LOCATION:Europe/Berlin
BEGIN:DAYLIGHT
DTSTART:20210328T030000
TZOFFSETFROM:+0100
TZOFFSETTO:+0200
TZNAME:CEST
END:DAYLIGHT
END:VTIMEZONE
END:VCALENDAR