BEGIN:VCALENDAR
VERSION:2.0
PRODID:-//wp-events-plugin.com//7.2.3.1//EN
TZID:Europe/Berlin
X-WR-TIMEZONE:Europe/Berlin
BEGIN:VEVENT
UID:4286@frauenportal.koeln
DTSTART;TZID=Europe/Berlin:20230504T133000
DTEND;TZID=Europe/Berlin:20230504T151500
DTSTAMP:20230830T135606Z
URL:https://frauenportal.koeln/veranstaltungen/ilc-koeln-shtetl-sexkontrol
 le-ns-auslese/
SUMMARY:ILC Köln: Shtetl*\, Sexkontrolle\, NS-Auslese
DESCRIPTION:– Frauen rund um das Griechenmarktviertel –\n\nFührung mit
  Irene Franken vom Kölner Frauengeschichtsverein.\n\nEs wird ein Blick ge
 worfen in das – auch migrantische – Biotop des Griechenmarktviertels. 
 In der randständigen Schartgasse und der Schemmergasse wurden Sinti verfo
 lgt\; proletarische Ostjüdinnen lebten ein anderes Frauenbild als die ass
 imilierten bürgerlichen Jüdinnen. Als 'Asoziale' etikettierte Bewohnerin
 nen sollten weniger Kinder gebären und wurden in der NS-Zeit zwangssteril
 isiert. Ärzte bestellten Prostituierte ins Untersuchungshaus ein. Zu Fü
 ßen des heutigen Luxushotels Wasserturm\, das eine berühmte Innenarchite
 ktin ausstattete\, fanden revolutionäre Kämpfe und auch politisches Kaba
 rett statt.\n\n* Schtetl\, Wikipedia\n\nVeranstalterin:\nInternationaler L
 yceum Club Köln e.V.\n\nAnsprechpartnerin:\nHeidi Esser\, E-Mail: info@ly
 ceumclub-koeln.de\n\nKosten / Anmeldung:\nBeitrag für Gäste: 5\,00 €. 
 Anmeldung bis eine Woche vorher bei Frau Kusserow\, E-Mail: r.kusserow@t-o
 nline.de\, Tel. 0221 / 7123814.\n\nTreffpunkt: Treffpunkt: 13.15 Uhr am Ge
 sundheitsamt
LOCATION:Gesundheitsamt Köln\, Neumarkt 15-21\, 50667 Köln
GEO:50.9354;6.9484723
X-APPLE-STRUCTURED-LOCATION;VALUE=URI;X-ADDRESS=Neumarkt 15-21\, Köln\, 50
 667\, Veranstaltungsort\, Deutschland;X-APPLE-RADIUS=100;X-TITLE=Gesundhei
 tsamt Köln:geo:50.9354,6.9484723
END:VEVENT
BEGIN:VTIMEZONE
TZID:Europe/Berlin
X-LIC-LOCATION:Europe/Berlin
BEGIN:DAYLIGHT
DTSTART:20230326T030000
TZOFFSETFROM:+0100
TZOFFSETTO:+0200
TZNAME:CEST
END:DAYLIGHT
END:VTIMEZONE
END:VCALENDAR