BEGIN:VCALENDAR
VERSION:2.0
PRODID:-//wp-events-plugin.com//7.2.3.1//EN
TZID:Europe/Berlin
X-WR-TIMEZONE:Europe/Berlin
BEGIN:VEVENT
UID:2907@frauenportal.koeln
DTSTART;TZID=Europe/Berlin:20201215T150000
DTEND;TZID=Europe/Berlin:20201215T170000
DTSTAMP:20201130T161551Z
URL:https://frauenportal.koeln/veranstaltungen/ilc-koeln-vom-mut-das-leben
 -zu-wagen-2/
SUMMARY:ILC Köln: Vom Mut\, das Leben zu wagen
DESCRIPTION: – Märchenheldinnen auf ihrem Weg –\n\nVortrag von Frau Sa
 bine Luktat\, Präsidentin der europäischen Märchengesellschaft\n\nVeran
 stalterin:\nInternationaler Lyceum Club Köln e.V.\n\nAnsprechpartnerin:\n
 Renate Cimiotti\, E-Mail: info@lyceumclub-koeln.de\n\nKosten / Anmeldung:\
 nGäste sind herzlich willkommen\, Anmeldung ist erforderlich bei Frau Fel
 dmann-Kahl per Mail unter cmhfk@icloud.com oder telefonisch unter Tel. 022
 06.869414.\nDie Mail mit dem Schlüssel für den virtuellen Raum erhalten 
 Sie eine Stunde vor Beginn des Events.\n\nVeranstaltungsort:\nonline
END:VEVENT
BEGIN:VTIMEZONE
TZID:Europe/Berlin
X-LIC-LOCATION:Europe/Berlin
BEGIN:STANDARD
DTSTART:20201025T020000
TZOFFSETFROM:+0200
TZOFFSETTO:+0100
TZNAME:CET
END:STANDARD
END:VTIMEZONE
END:VCALENDAR