BEGIN:VCALENDAR
VERSION:2.0
PRODID:-//wp-events-plugin.com//7.2.3.1//EN
TZID:Europe/Berlin
X-WR-TIMEZONE:Europe/Berlin
BEGIN:VEVENT
UID:2885@frauenportal.koeln
DTSTART;TZID=Europe/Berlin:20201016T180000
DTEND;TZID=Europe/Berlin:20201016T200000
DTSTAMP:20201031T144255Z
URL:https://frauenportal.koeln/veranstaltungen/ilc-koeln-vom-mut-das-leben
 -zu-wagen/
SUMMARY:ILC Köln: Vom Mut\, das Leben zu wagen
DESCRIPTION:Der Termin findet nicht statt. \n\n– Märchenheldinnen auf ih
 rem Weg –\n\nVortrag von Sabine Lutkat.\n\nDie Präsidentin der Europäi
 schen Märchengesellschaft e.V. erzählt Märchen von mutigen Frauen\, die
  sich mit den schwierigen und gefährlichen Seiten des Lebens auseinanders
 etzen und so zu ihrem Lebensglück finden.\n\nVeranstalterin:\nInternation
 aler Lyceum Club Köln e.V.\n\nAnsprechpartnerin:\nRenate Cimiotti\, E-Mai
 l: info@lyceumclub-koeln.de\n\nKosten / Anmeldung:\nBeitrag für Gäste: 5
 \,00 €. Anmeldung bis eine Woche vorher bei Frau Kusserow\, E-Mail: r.ku
 sserow@t-online.de\, Tel. 0221 / 7123814.\nWegen Corona begrenzte Plätze.
 \n\nVeranstaltungsort:\nGeschäftsstelle ILC Köln\, Albertusstr. 13-17\, 
 1. Etage\, 50667 Köln\, [map id=14040]
END:VEVENT
BEGIN:VTIMEZONE
TZID:Europe/Berlin
X-LIC-LOCATION:Europe/Berlin
BEGIN:DAYLIGHT
DTSTART:20200329T030000
TZOFFSETFROM:+0100
TZOFFSETTO:+0200
TZNAME:CEST
END:DAYLIGHT
END:VTIMEZONE
END:VCALENDAR