BEGIN:VCALENDAR
VERSION:2.0
PRODID:-//wp-events-plugin.com//7.2.3.1//EN
TZID:Europe/Berlin
X-WR-TIMEZONE:Europe/Berlin
BEGIN:VEVENT
UID:3791@frauenportal.koeln
DTSTART;TZID=Europe/Berlin:20220621T143000
DTEND;TZID=Europe/Berlin:20220621T170000
DTSTAMP:20220531T124159Z
URL:https://frauenportal.koeln/veranstaltungen/ilc-koeln-willkommen-im-par
 k-ueber-natur-natural-takeover/
SUMMARY:ILC Köln: Willkommen im Park: Über Natur – Natural Takeover
DESCRIPTION:Der Skulpturenpark Köln ist ein Museum unter freiem Himmel\, d
 as sich mit zeitgenössischen Skulpturen auseinandersetzt. Die derzeitige\
 , 10. Ausgabe der KölnSkulptur wurde inspiriert von der Lage des Parks zw
 ischen Rhein\, Kölner Zoo\, Flora und botanischem Garten. Mary Bauermeist
 ers Skulptur „Rübezahl“ wurde als neuer Parkmittelpunkt konzipiert. D
 er Berggeist verkörpert die Unberechenbarkeit der Natur und beeinflusst d
 urch sie das Leben der Menschen. Die Installation lädt zum Verweilen und 
 Nachdenken ein über einen Raum\, an dem die Natur übernimmt.\n\nAnschlie
 ßend ist eine Einkehr ins nahegelegene „Richters Restaurant“ geplant.
 \n\nVeranstalterin:\nInternationaler Lyceum Club Köln e.V.\n\nAnsprechpar
 tnerin:\nHeidi Esser\, E-Mail: info@lyceumclub-koeln.de\n\nKosten / Anmeld
 ung:\nBeitrag für Gäste: 5\,00 €. Anmeldung bis eine Woche vorher bei 
 Frau Kusserow\, E-Mail: r.kusserow@t-online.de\, Tel. 0221 / 7123814.\n\nV
 eranstaltungsort:\nTreffpunkt: Skulpturenpark Köln\, Riehler Str. (Haupte
 ingang)\, 50668 Köln\, [map id=1058]
END:VEVENT
BEGIN:VTIMEZONE
TZID:Europe/Berlin
X-LIC-LOCATION:Europe/Berlin
BEGIN:DAYLIGHT
DTSTART:20220327T030000
TZOFFSETFROM:+0100
TZOFFSETTO:+0200
TZNAME:CEST
END:DAYLIGHT
END:VTIMEZONE
END:VCALENDAR