BEGIN:VCALENDAR
VERSION:2.0
PRODID:-//wp-events-plugin.com//7.2.3.1//EN
TZID:Europe/Berlin
X-WR-TIMEZONE:Europe/Berlin
BEGIN:VEVENT
UID:3725@frauenportal.koeln
DTSTART;TZID=Europe/Berlin:20220423T110000
DTEND;TZID=Europe/Berlin:20220423T150000
DTSTAMP:20220331T115719Z
URL:https://frauenportal.koeln/veranstaltungen/ilc-koeln-wir-wandern-2/
SUMMARY:ILC Köln: Wir wandern...
DESCRIPTION:...vom Klettenbergpark durch den Kölner Grüngürtel vorbei am
  Decksteiner Weiher nach Müngersdorf.\n\nDie Tour ist etwa 7 km lang und 
 bei nicht zu hastigem Laufen benötigt man knapp 2 Stunden.\n\nAnschließe
 nd ist eine Einkehr im Restaurant Aphrodite geplant.\n\nVeranstalterin:\nI
 nternationaler Lyceum Club Köln e.V.\n\nAnsprechpartnerin:\nRenate Cimiot
 ti\, E-Mail: info@lyceumclub-koeln.de\n\nKosten / Anmeldung:\nAnmeldung bi
 tte bis spätestens 1 Woche vorher bei Rosemarie Kusserow\, Tel. 0221 / 71
 23814 oder unter r.kusserow@t-online.de
END:VEVENT
BEGIN:VTIMEZONE
TZID:Europe/Berlin
X-LIC-LOCATION:Europe/Berlin
BEGIN:DAYLIGHT
DTSTART:20220327T030000
TZOFFSETFROM:+0100
TZOFFSETTO:+0200
TZNAME:CEST
END:DAYLIGHT
END:VTIMEZONE
END:VCALENDAR