BEGIN:VCALENDAR
VERSION:2.0
PRODID:-//wp-events-plugin.com//7.2.3.1//EN
TZID:Europe/Berlin
X-WR-TIMEZONE:Europe/Berlin
BEGIN:VEVENT
UID:310@frauenportal.koeln
DTSTART;TZID=Europe/Berlin:20170315T193000
DTEND;TZID=Europe/Berlin:20170315T220000
DTSTAMP:20170529T051636Z
URL:https://frauenportal.koeln/veranstaltungen/immer-noch-mehr-in-immer-no
 ch-weniger-zeit-zeitmanagement-auf-dem-pruefstand-15-maerz-2017-mittwoch/
SUMMARY:Immer noch mehr in immer noch weniger Zeit?!? - Zeitmanagement auf 
 dem Prüfstand 
DESCRIPTION:\n          \n\n  Offenbar gelingt es nur wenigen Menschen\, ei
 ne persönliche Zufriedenheit im Hinblick auf die eigene Zeitnutzung zu er
 reichen. Da stellt sich die Frage: Wozu ist Zeitmanagement eigentlich nüt
 zlich? Und wo stößt es an seine Grenzen? Wie können wir es schaffen\, i
 m Meer der Möglichkeiten und Verpflichtungen\, in dem wir heute schwimmen
 \, am Ende einer Woche das Gefühl zu bekommen\, die wichtigsten Dinge get
 an zu haben und zufrieden zu sein? Der Vortrag soll dazu ermutigen\, mehr 
 Qualität statt Quantität in die Zeitnutzung zu bringen. Viel hilft nicht
  immer viel\, weniger kann mehr sein ...Referentin:Tanja Klußmann\,  www.
 tanja-klussmann.deVeranstalterin:Bundesverband der Frau in Business und Ma
 nagement e.V.Ansprechpartnerin:Maxi-Karine Stamer\, Tel.: 02204 / 9501-0\,
  E-Mail: eval(decodeURIComponent('%76%61%72%20%73%3D%27%6F%6B%6C%65%40%6E%
 66%62%6D%62%64%2E%65%27%3B%76%61%72%20%72%3D%27%27%3B%66%6F%72%28%76%61%72
 %20%69%3D%30%3B%69%3C%73%2E%6C%65%6E%67%74%68%3B%69%2B%2B%2C%69%2B%2B%29%7
 B%72%3D%72%2B%73%2E%73%75%62%73%74%72%69%6E%67%28%69%2B%31%2C%69%2B%32%29%
 2B%73%2E%73%75%62%73%74%72%69%6E%67%28%69%2C%69%2B%31%29%7D%64%6F%63%75%6D
 %65%6E%74%2E%77%72%69%74%65%28%27%3C%61%20%68%72%65%66%3D%22%6D%61%69%6C%7
 4%6F%3A%27%2B%72%2B%27%22%3E%6B%6F%65%6C%6E%40%62%66%62%6D%2E%64%65%3C%2F%
 61%3E%27%29%3B'))Kosten / Anmeldung:Mitglieder frei\, Gäste 15\,00 Euro. 
 Da die Teilnehmerinnenzahl begrenzt ist\, wird um eine verbindliche Anmeld
 ung gebeten.Veranstaltungsort:Café Lupus\, Lupusstr. 24\, 50670 Köln\, L
 ageplan
END:VEVENT
BEGIN:VTIMEZONE
TZID:Europe/Berlin
X-LIC-LOCATION:Europe/Berlin
BEGIN:STANDARD
DTSTART:20161030T020000
TZOFFSETFROM:+0200
TZOFFSETTO:+0100
TZNAME:CET
END:STANDARD
END:VTIMEZONE
END:VCALENDAR