BEGIN:VCALENDAR
VERSION:2.0
PRODID:-//wp-events-plugin.com//7.2.3.1//EN
TZID:Europe/Berlin
X-WR-TIMEZONE:Europe/Berlin
BEGIN:VEVENT
UID:743@frauenportal.koeln
DTSTART;TZID=Europe/Berlin;VALUE=DATE:20180426
DTEND;TZID=Europe/Berlin;VALUE=DATE:20180427
DTSTAMP:20200226T111618Z
URL:https://frauenportal.koeln/veranstaltungen/info-girlsday-maedchen-zuku
 nftstag-2018/
SUMMARY:Info: Girls'Day - Mädchen-Zukunftstag
DESCRIPTION:Der Girls'Day geht in die achtzehnte Runde!\n\nVor allem techni
 sche Unternehmen\, Betriebe mit technischen Abteilungen und Ausbildungen\,
  Hochschulen und Forschungszentren öffnen am 26.04.2018 wieder ihre Türe
 n für Schülerinnen. In Werkstätten\, Büros\, Laboren und Redaktionsrä
 umen werden Mädchen Einblicke in die Praxis verschiedenster Bereiche der 
 Arbeitswelt gewährt. Dabei können sie wichtige Kontakte herstellen und V
 orbildfrauen in Führungspositionen oder Unternehmerinnen kennen lernen.\n
 \nDer Girls'Day bietet Schülerinnen ab der Klasse 5 Einblick in Berufsfel
 der\, die Mädchen im Prozess der Berufsorientierung nur selten in Betrach
 t ziehen. Etwa 1\,8 Millionen Mädchen haben seit 2001 am Girls'Day teilge
 nommen und die Nachfrage übersteigt regelmäßig das Angebot an Teilnahme
 plätzen in betrieblichen Veranstaltungen.\n\nIn Köln hat es sich ein spe
 zieller Arbeitskreis zur Aufgabe gemacht\, den Girls'Day zum Erfolg zu fü
 hren. Zu diesem Zweck und zur unmittelbaren Information Über die Kölner 
 Gegebenheiten dient auch die Internetseite www.girlsday-koeln.de.\n\nVeran
 stalterin:\nBundesweite Koordinierungsstelle Girls'Day - Mädchen-Zukunfts
 tag: Kompetenzzentrum Technik-Diversity-Chancengleichheit e.V.\, www.girls
 day.de\n\nAnsprechpartnerinnen:\nJennifer Reker\, Tel.: 0521 / 106-7381\, 
 E-Mail: reker@girls-day.de\n\nKosten / Anmeldung:\nDie Veranstaltungen sin
 d für Schülerinnen kostenfrei. Die Anmeldung erfolgt über die bundeswei
 te Aktionslandkarte unter www.girlsday.de oder über den Kölner Teil der 
 Aktionslandkarte unter www.girlsday-koeln.de.\n\nVeranstaltungsorte:\nDie 
 Veranstaltungsorte richten sich nach den teilnehmenden Unternehmen und Ins
 titutionen.\n\nInternational Girls in ICT Day\n\nDie Genfer International 
 Telecommunication Union (ITU) und die globale Tech-Communit organisieren s
 eit 2010 immer am vierten Donnerstag im April den speziellen ICT-Mädchent
 ag\, um auf die Karrierechancen für Frauen im ICT-Bereich aufmerksam zum 
 machen. Ziel ist es\, Frauen weltweit im ICT-(Information and Communicatio
 n Technology)-Sektor zu fördern. Weitere Informationen: Girls in ICT Day
END:VEVENT
BEGIN:VTIMEZONE
TZID:Europe/Berlin
X-LIC-LOCATION:Europe/Berlin
BEGIN:DAYLIGHT
DTSTART:20180325T030000
TZOFFSETFROM:+0100
TZOFFSETTO:+0200
TZNAME:CEST
END:DAYLIGHT
END:VTIMEZONE
END:VCALENDAR