BEGIN:VCALENDAR
VERSION:2.0
PRODID:-//wp-events-plugin.com//7.2.3.1//EN
TZID:Europe/Berlin
X-WR-TIMEZONE:Europe/Berlin
BEGIN:VEVENT
UID:3428@frauenportal.koeln
DTSTART;TZID=Europe/Berlin;VALUE=DATE:20220428
DTEND;TZID=Europe/Berlin;VALUE=DATE:20220429
DTSTAMP:20211103T135610Z
URL:https://frauenportal.koeln/veranstaltungen/info-girlsday-maedchen-zuku
 nftstag-2022/
SUMMARY:Info: Girls'Day - Mädchen-Zukunftstag
DESCRIPTION:Der Girls'Day geht in die einundzwanzigste Runde\n\nVor allem t
 echnische Unternehmen\, Betriebe mit technischen Abteilungen und Ausbildun
 gen\, Hochschulen und Forschungszentren gewähren am 28. April 2022 wieder
  Schülerinnen Einblicke in die Praxis verschiedenster Bereiche der Arbeit
 swelt\, z.B. in Werkstätten\, Büros\, Laboren und Redaktionsräumen. Dab
 ei können sie wichtige Kontakte herstellen und Vorbildfrauen in Führungs
 positionen oder Unternehmerinnen kennen lernen.\n\nDer Girls'Day bietet Sc
 hülerinnen ab der Klasse 5 Einblick in Berufsfelder\, die Mädchen im Pro
 zess der Berufsorientierung nur selten in Betracht ziehen. Etwa 1\,9 Milli
 onen Mädchen haben seit 2001 am Girls'Day teilgenommen und die Nachfrage 
 übersteigt regelmäßig das Angebot an Teilnahmeplätzen in betrieblichen
  Veranstaltungen.\n\nIn Köln hat es sich ein spezieller Arbeitskreis zur 
 Aufgabe gemacht\, den Girls'Day zum Erfolg zu führen. Zu diesem Zweck und
  zur unmittelbaren Information über die Kölner Gegebenheiten dient auch 
 die Internetseite www.girlsday-koeln.de.\n\nVeranstalterin:\nBundesweite K
 oordinierungsstelle Girls'Day - Mädchen-Zukunftstag: Kompetenzzentrum Tec
 hnik-Diversity-Chancengleichheit e.V.\, www.girlsday.de\n\nAnsprechpartner
 innen:\nJennifer Reker\, Tel.: 0521 / 106-7381\, E-Mail: reker@girls-day.d
 e\n\nKosten / Anmeldung:\nDie Veranstaltungen sind für Schülerinnen kost
 enfrei. Die Anmeldung erfolgt über die bundesweite Aktionslandkarte unter
  www.girlsday.de oder über den Kölner Teil der Aktionslandkarte unter ww
 w.girlsday-koeln.de.\n\nVeranstaltungsorte:\nDie Veranstaltungsorte richte
 n sich nach den teilnehmenden Unternehmen und Institutionen.\n\nInternatio
 nal Girls in ICT Day\n\nDie Genfer International Telecommunication Union (
 ITU) und die globale Tech-Communit organisieren seit 2010 immer am vierten
  Donnerstag im April den speziellen ICT-Mädchentag\, um auf die Karrierec
 hancen für Frauen im ICT-Bereich aufmerksam zum machen. Ziel ist es\, Fra
 uen weltweit im ICT-(Information and Communication Technology)-Sektor zu f
 ördern. Weitere Informationen: Girls in ICT Day
END:VEVENT
BEGIN:VTIMEZONE
TZID:Europe/Berlin
X-LIC-LOCATION:Europe/Berlin
BEGIN:DAYLIGHT
DTSTART:20220327T030000
TZOFFSETFROM:+0100
TZOFFSETTO:+0200
TZNAME:CEST
END:DAYLIGHT
END:VTIMEZONE
END:VCALENDAR