BEGIN:VCALENDAR
VERSION:2.0
PRODID:-//wp-events-plugin.com//7.2.3.1//EN
TZID:Europe/Berlin
X-WR-TIMEZONE:Europe/Berlin
BEGIN:VEVENT
UID:5255@frauenportal.koeln
DTSTART;TZID=Europe/Berlin;VALUE=DATE:20250403
DTEND;TZID=Europe/Berlin;VALUE=DATE:20250404
DTSTAMP:20241125T144207Z
URL:https://frauenportal.koeln/veranstaltungen/info-girlsday-maedchen-zuku
 nftstag-2025/
SUMMARY:Info: Girls'Day - Mädchen-Zukunftstag
DESCRIPTION:Der Girls'Day geht in die vierundzwanzigste Runde\n\nVor allem 
 technische Unternehmen\, Betriebe mit technischen Abteilungen und Ausbildu
 ngen\, Hochschulen und Forschungszentren gewähren am 03. April 2025 wiede
 r Schülerinnen Einblicke in die Praxis verschiedenster Bereiche der Arbei
 tswelt\, z.B. in Werkstätten\, Büros\, Laboren und Redaktionsräumen. Da
 bei können sie wichtige Kontakte herstellen und Vorbildfrauen in Führung
 spositionen oder Unternehmerinnen kennen lernen.\n\nDer Girls'Day bietet S
 chülerinnen ab der Klasse 5 Einblick in Berufsfelder\, die Mädchen im Pr
 ozess der Berufsorientierung nur selten in Betracht ziehen. Mehr als 2\,38
  Millionen Mädchen haben seit 2001 am Girls'Day teilgenommen und die Nach
 frage übersteigt regelmäßig das Angebot an Teilnahmeplätzen in betrieb
 lichen Veranstaltungen.\n\nIn Köln hat es sich ein spezieller Arbeitskrei
 s zur Aufgabe gemacht\, den Girls'Day zum Erfolg zu führen. Zu diesem Zwe
 ck und zur unmittelbaren Information über die Kölner Gegebenheiten dient
  auch die Internetseite www.girlsday-koeln.de.\n\nVeranstalterin:\nBundesw
 eite Koordinierungsstelle Girls'Day - Mädchen-Zukunftstag: Kompetenzzentr
 um Technik-Diversity-Chancengleichheit e.V.\, www.girlsday.de\n\nAnsprechp
 artnerin:\nTabea Schroer\, Tel.: 0521 / 106-7357\, E-Mail: info@girls-day.
 de\n\nKosten / Anmeldung:\nDie Veranstaltungen sind für Schülerinnen kos
 tenfrei. Die Anmeldung erfolgt über die bundesweite Aktionslandkarte unte
 r www.girlsday.de oder über den Kölner Teil der Aktionslandkarte unter w
 ww.girlsday-koeln.de.\n\nVeranstaltungsorte:\nDie Veranstaltungsorte richt
 en sich nach den teilnehmenden Unternehmen und Institutionen.
END:VEVENT
BEGIN:VTIMEZONE
TZID:Europe/Berlin
X-LIC-LOCATION:Europe/Berlin
BEGIN:DAYLIGHT
DTSTART:20250330T030000
TZOFFSETFROM:+0100
TZOFFSETTO:+0200
TZNAME:CEST
END:DAYLIGHT
END:VTIMEZONE
END:VCALENDAR