BEGIN:VCALENDAR
VERSION:2.0
PRODID:-//wp-events-plugin.com//7.2.3.1//EN
TZID:Europe/Berlin
X-WR-TIMEZONE:Europe/Berlin
BEGIN:VEVENT
UID:3130@frauenportal.koeln
DTSTART;TZID=Europe/Berlin;VALUE=DATE:20210308
DTEND;TZID=Europe/Berlin;VALUE=DATE:20210309
DTSTAMP:20240403T153845Z
URL:https://frauenportal.koeln/veranstaltungen/info-internationaler-frauen
 streiktag-2021/
SUMMARY:Info: Internationaler Frauen(streik)tag
DESCRIPTION:Der Internationale Frauentag oder Weltfrauentag wird am 8.03. b
 egangen. Er entstand in der Zeit um den Ersten Weltkrieg im Kampf um die G
 leichberechtigung und das Wahlrecht für Frauen. Später wurde er der Tag 
 der Vereinten Nationen für die Rechte der Frau und den Weltfrieden. Mehr 
 dazu: Wikipedia\n\nSeit 2019\nFeministischer &amp\; Frauen*streik zum 8. M
 ärz und darüber hinaus…\n\nGemeinsam mit vielen Frauen* dieser Welt st
 ellte der 8. März 2019 für die Bundesrepublik nach 1994\, wo es bereits 
 einen breiten feministischen Streik gab\, den Auftakt dar. In lokalen Stre
 ikkomitees soll fortan gemeinsam für eine grundlegende Veränderung der S
 ituationen von Frauen* und Queers gestritten werden. \n\nDas "8M Bündnis 
 Köln" ist auf Facebook\, Instagram und Twitter aktiv und ruft für 2021 z
 u dezentralen Aktionen auf. Um 19 Uhr findet eine zentrale Abschlusskundge
 bung auf dem Rudolfplatz statt.\n\nHier ist eine Köln-Karte mit den Stand
 orten der diesjährigen 8m-Aktionen: Aktionenkarte 8m 2021 Köln (pdf-Date
 i\, 300 KB)\n\n&nbsp\;
END:VEVENT
BEGIN:VTIMEZONE
TZID:Europe/Berlin
X-LIC-LOCATION:Europe/Berlin
BEGIN:STANDARD
DTSTART:20201025T020000
TZOFFSETFROM:+0200
TZOFFSETTO:+0100
TZNAME:CET
END:STANDARD
END:VTIMEZONE
END:VCALENDAR