BEGIN:VCALENDAR
VERSION:2.0
PRODID:-//wp-events-plugin.com//7.2.3.1//EN
TZID:Europe/Berlin
X-WR-TIMEZONE:Europe/Berlin
BEGIN:VEVENT
UID:3430@frauenportal.koeln
DTSTART;TZID=Europe/Berlin;VALUE=DATE:20220308
DTEND;TZID=Europe/Berlin;VALUE=DATE:20220309
DTSTAMP:20240403T153815Z
URL:https://frauenportal.koeln/veranstaltungen/info-internationaler-frauen
 streiktag-2022/
SUMMARY:Info: Internationaler Frauen(streik)tag
DESCRIPTION:Der Internationale Frauentag oder Weltfrauentag wird am 8.03. b
 egangen. Er entstand in der Zeit um den Ersten Weltkrieg im Kampf um die G
 leichberechtigung und das Wahlrecht für Frauen. Später wurde er der Tag 
 der Vereinten Nationen für die Rechte der Frau und den Weltfrieden. Mehr 
 dazu: Wikipedia\n\n\n\nDie traditionelle zentrale Veranstaltung zum Intern
 ationalen Frauentag (IFT) in Köln mit Begleitprogramm und Markt der Mögl
 ichkeiten wird coronabedingt als zusätzliches „Sommerfest“ auf Samsta
 g\, den 11.06.2022 ab 14 Uhr gelegt.\nWegen der Bauarbeiten zwischen den R
 athäusern in der Altstadt und den Renovierungsarbeiten in der Piazzetta w
 ird in das Bürgerhaus Stollwerck ausgewichen.\n\n\n\nSeit 2019\nFeministi
 scher &amp\; Frauen*streik zum 8. März und darüber hinaus…\n\nGemeinsa
 m mit vielen Frauen* dieser Welt stellte der 8. März 2019 für die Bundes
 republik nach 1994\, wo es bereits einen breiten feministischen Streik gab
 \, den Auftakt dar. In lokalen Streikkomitees soll fortan gemeinsam für e
 ine grundlegende Veränderung der Situationen von Frauen* und Queers gestr
 itten werden. \n\nDas "8M Bündnis Köln" ist zu finden auf Instagram.
END:VEVENT
BEGIN:VTIMEZONE
TZID:Europe/Berlin
X-LIC-LOCATION:Europe/Berlin
BEGIN:STANDARD
DTSTART:20211031T020000
TZOFFSETFROM:+0200
TZOFFSETTO:+0100
TZNAME:CET
END:STANDARD
END:VTIMEZONE
END:VCALENDAR