BEGIN:VCALENDAR
VERSION:2.0
PRODID:-//wp-events-plugin.com//7.2.3.1//EN
TZID:Europe/Berlin
X-WR-TIMEZONE:Europe/Berlin
BEGIN:VEVENT
UID:4474@frauenportal.koeln
DTSTART;TZID=Europe/Berlin;VALUE=DATE:20241011
DTEND;TZID=Europe/Berlin;VALUE=DATE:20241012
DTSTAMP:20231127T145602Z
URL:https://frauenportal.koeln/veranstaltungen/info-internationaler-maedch
 entag-2024/
SUMMARY:Info: Internationaler Mädchentag
DESCRIPTION:Der Internationale Mädchentag ist ein von den Vereinten Nation
 en (UNO) 2011 initiierter Aktionstag. Er soll in jedem Jahr am 11.10. eine
 n Anlass geben\, um auf die weltweit vorhandenen Benachteiligungen von Mä
 dchen hinzuweisen.\n\nDie Idee zu diesem Tag entstand 2003 als Teil der Ka
 mpagne "Because I am a Girl" des Vereins Plan International Deutschland e.
 V.. Im September 2008 wurde der erste noch inoffizielle Internationale Mä
 dchentag ausgerufen. Ein Jahr später wandte sich Plan International die U
 NO\, damit sie den Tag offiziell als weltweiten Aktionstag unterstützt.\n
 \nMehr dazu: Wikipedia
END:VEVENT
BEGIN:VTIMEZONE
TZID:Europe/Berlin
X-LIC-LOCATION:Europe/Berlin
BEGIN:DAYLIGHT
DTSTART:20240331T030000
TZOFFSETFROM:+0100
TZOFFSETTO:+0200
TZNAME:CEST
END:DAYLIGHT
END:VTIMEZONE
END:VCALENDAR