BEGIN:VCALENDAR
VERSION:2.0
PRODID:-//wp-events-plugin.com//7.2.3.1//EN
TZID:Europe/Berlin
X-WR-TIMEZONE:Europe/Berlin
BEGIN:VEVENT
UID:4467@frauenportal.koeln
DTSTART;TZID=Europe/Berlin:20231120T190000
DTEND;TZID=Europe/Berlin:20231120T203000
DTSTAMP:20231031T165718Z
URL:https://frauenportal.koeln/veranstaltungen/info-termin-coachingreihe-f
 uer-mamas-die-kinder-chaos-meisterinnen/
SUMMARY:Info-Termin Coachingreihe für Mamas: Die Kinder-Chaos-Meisterinnen
DESCRIPTION:Kathrin Megid zu ihrem Angbot:\n\n"Für Mamas: Die Kinder-Chaos
 -Meisterinnen oder einfach: Endlich die gelassene Mama\, die du immer sein
  wolltest. \n\nNeue Coachingreihe ab dem 30. November 2023\, 12 Einheiten 
 à 45 Minuten. Unseren kostenlosen Infoveranstaltungstermin findest du auf
  unserer Homepage! Dieser findet am 20. November statt um 19.00 Uhr."
END:VEVENT
BEGIN:VTIMEZONE
TZID:Europe/Berlin
X-LIC-LOCATION:Europe/Berlin
BEGIN:STANDARD
DTSTART:20231029T020000
TZOFFSETFROM:+0200
TZOFFSETTO:+0100
TZNAME:CET
END:STANDARD
END:VTIMEZONE
END:VCALENDAR