BEGIN:VCALENDAR
VERSION:2.0
PRODID:-//wp-events-plugin.com//7.2.3.1//EN
TZID:Europe/Berlin
X-WR-TIMEZONE:Europe/Berlin
BEGIN:VEVENT
UID:5797@frauenportal.koeln
DTSTART;TZID=Europe/Berlin:20250915T170000
DTEND;TZID=Europe/Berlin:20250915T183000
DTSTAMP:20250930T131636Z
URL:https://frauenportal.koeln/veranstaltungen/info-termin-notruf-koeln-kr
 eatives-arbeiten-mit-holz-2/
SUMMARY:Info-Termin Notruf Köln: Kreatives Arbeiten mit Holz
DESCRIPTION:Kostenloser und unverbindlicher Info-Termin für\n\nKreatives A
 rbeiten mit Holz für gewaltbetroffene Frauen* (sexualisierte Gewalt)\n\nD
 er Schwerpunkt dieses Gruppenangebotes wird auf der Stabilisierung liegen.
  Geboten wird eine Einführung in die Holzbildhauerei und Holzassemblage (
 das Zusammenfügen von hölzernen Fundstücken). Holz ist ein wundervolles
  Material: Faserverlauf\, Wuchsform\, Farbe und Geruch sprechen alle Sinne
  an und inspirieren den Prozess der eigenen Formfindung. Einfache Grundüb
 ungen erleichtern die fachgerechte Handhabung des Werkzeugs und bieten den
  Einstieg ins dreidimensionale Arbeiten. Holzfundstücke (z.B. Treibholz v
 om Rheinufer) können zu Skulpturen zusammengefügt und anschließend bema
 lt werden. Holz\, Werkzeug und Farbe werden gestellt\, Fundstücke bitte s
 elbst mitbringen. Die Arbeit mit diesem Naturmaterial wirkt beruhigend und
  ausgleichend\, die nötige Konzentration erleichtert eine Zentrierung auf
  das Hier und Jetzt.\n\nWichtig:\n\n 	Dieses Gruppenangebot ersetzt keine 
 psychotherapeutische Einzeltherapie.\n 	Es bedarf keiner künstlerischen V
 orerfahrungen oder spezifischer Begabungen.\n 	Die Teilnehmenden sollten s
 ich stark genug fühlen\, um sich auch auf die Dynamik einer Gruppe einlas
 sen zu können.\n\nKursleiterin: Cornelia Budde (Holzbildhauerin\, Lehreri
 n für Body-Mind Centering und SE-Practicionerin sowie Heilpraktikerin Psy
 chotherapie u.a.)\nGruppengröße: max. 6 Frauen*\nTermin: Montag\, 17 - 1
 9.30 Uhr\nStart: Montag\, 29. September 2025\nDauer: 8 Einheiten (29.9./ 6
 .10./ 27.10./ 10.11./ 17.11./ 1.12./ 15.12. / 5.1.2026)\nKostenbeteiligung
 : 80 € (Ermäßigung bis max. 50% nach Selbsteinschätzung möglich)\n\n
 Hier ist der Flyer: Flyer-Kreativkurs-Holz_2025 (pdf-Datei\, 641  KB)\n\nV
 eranstalterin:\nNotruf und Beratung für vergewaltigte Frauen - Frauen geg
 en Gewalt e.V. (Notruf Köln)\n\nAnsprechpartnerin:\nIrmgard Kopetzky\, Te
 l.: 0221 / 56 20 35\, E-Mail: mailbox@notruf-koeln.de\n\nKosten / Anmeldun
 g:\nDer Info-Termin ist kostenlos und unverbindlich. Eine Anmeldung beim N
 otruf Köln ist unbedingt erforderlich und auch anonymisiert möglich!\n\n
 Veranstaltungsort:\nDer genaue Veranstaltungsort wird bei Anmeldung mitget
 eilt.
END:VEVENT
BEGIN:VTIMEZONE
TZID:Europe/Berlin
X-LIC-LOCATION:Europe/Berlin
BEGIN:DAYLIGHT
DTSTART:20250330T030000
TZOFFSETFROM:+0100
TZOFFSETTO:+0200
TZNAME:CEST
END:DAYLIGHT
END:VTIMEZONE
END:VCALENDAR