BEGIN:VCALENDAR
VERSION:2.0
PRODID:-//wp-events-plugin.com//7.2.3.1//EN
TZID:Europe/Berlin
X-WR-TIMEZONE:Europe/Berlin
BEGIN:VEVENT
UID:2027@frauenportal.koeln
DTSTART;TZID=Europe/Berlin:20190830T180000
DTEND;TZID=Europe/Berlin:20190830T193000
DTSTAMP:20190731T152723Z
URL:https://frauenportal.koeln/veranstaltungen/info-termin-notruf-koeln-ku
 nsttherapeutische-gruppe-2/
SUMMARY:Info-Termin Notruf Köln: Kunsttherapeutische Gruppe
DESCRIPTION:Kostenloser und unverbindlicher Info-Termin für die\n\nKunstth
 erapeutische Gruppe für gewaltbetroffene Frauen* (sexualisierte Gewalt)\n
 \nDer Schwerpunkt dieser kunsttherapeutischen Gruppe wird auf der Stabilis
 ierung liegen. Es wird mit Materialien gearbeitet\, die diesen Prozess unt
 erstützen\, wie z.B. Sand\, Kreide\, Ton\, aber auch Gold.  Der Fokus wir
 d auf den Prozess des Erlebens gelegt. Die Gestaltung mit der Auswahl der 
 erdenden Materialien wirkt schon durch das Tun beruhigend und ausgleichend
 \, erleichtert eine Zentrierung auf das Hier und Jetzt. \n \n\n	Organisier
 t vom Notruf für vergewaltigte Frauen – Frauen gegen Gewalt e.V.\, Notr
 uf Köln\n\n	Kursleiterin: Johanna Gunkel (Kunsttherapeutin BA\, BVAKT\, D
 iplom Designerin)\n\n	Gruppengröße: max. 8 Frauen\n \n \nStart: Samstag\
 , 28. September 2019\nDauer: 15-17 Uhr\, 8 Einheiten\, 14-tägig\nKostenbe
 teiligung: 60€ (Ermäßigung bis 50% nach Selbsteinschätzung möglich) 
 für 8 Termine\nOrt: Beratungsstelle LOBBY FÜR MÄDCHEN\, Fridolinstr. 14
 \, 50823 Köln-Ehrenfeld \n\nWichtig:\nDieses Gruppenangebot ersetzt keine
  psychotherapeutische Einzeltherapie. Es bedarf keiner künstlerischen Vor
 erfahrungen oder spezifischer Begabungen. Die Teilnehmerinnen* sollten sic
 h stark genug fühlen\, um sich auch auf die Dynamik einer Gruppe einlasse
 n zu können. \n\nHier ist der Flyer: Flyer Kunsttherapie Herbst 2019 (pdf
 -Datei\, 316 KB)\n \nVeranstalterin:\nNotruf und Beratung für vergewaltig
 te Frauen - Frauen gegen Gewalt e.V. (Notruf Köln)\n\nAnsprechpartnerin:\
 nIrmgard Kopetzky\, Tel.: 0221 / 56 20 35\, E-Mail: mailbox@notruf-koeln.d
 e\n\nKosten / Anmeldung:\nDer Info-Termin ist kostenlos und unverbindlich.
  Eine Anmeldung beim Notruf Köln ist unbedingt erforderlich und auch anon
 ymisiert möglich!
END:VEVENT
BEGIN:VTIMEZONE
TZID:Europe/Berlin
X-LIC-LOCATION:Europe/Berlin
BEGIN:DAYLIGHT
DTSTART:20190331T030000
TZOFFSETFROM:+0100
TZOFFSETTO:+0200
TZNAME:CEST
END:DAYLIGHT
END:VTIMEZONE
END:VCALENDAR