BEGIN:VCALENDAR
VERSION:2.0
PRODID:-//wp-events-plugin.com//7.2.3.1//EN
TZID:Europe/Berlin
X-WR-TIMEZONE:Europe/Berlin
BEGIN:VEVENT
UID:2858@frauenportal.koeln
DTSTART;TZID=Europe/Berlin:20201003T150000
DTEND;TZID=Europe/Berlin:20201003T163000
DTSTAMP:20200930T115159Z
URL:https://frauenportal.koeln/veranstaltungen/info-termin-notruf-koeln-ku
 nsttherapeutische-gruppe-3/
SUMMARY:Info-Termin Notruf Köln: Kunsttherapeutische Gruppe
DESCRIPTION:Kostenloser und unverbindlicher Info-Termin für die\n\nKunstth
 erapeutische Gruppe für gewaltbetroffene Frauen* (sexualisierte Gewalt)\n
 \nDer Schwerpunkt dieser kunsttherapeutischen Gruppe wird auf der Stabilis
 ierung liegen. Es wird mit Materialien gearbeitet\, die diesen Prozess unt
 erstützen\, wie z.B. Sand\, Kreide\, Ton\, aber auch Gold.  Der Fokus wir
 d auf den Prozess des Erlebens gelegt. Die Gestaltung mit der Auswahl der 
 erdenden Materialien wirkt schon durch das Tun beruhigend und ausgleichend
 \, erleichtert eine Zentrierung auf das Hier und Jetzt. \n \n\n	Kursleiter
 in: Johanna Gunkel (Kunsttherapeutin BA\, BVAKT\, Diplom Designerin)\n\n  
       Organisiert und begleitet vom Notruf für vergewaltigte Frauen – F
 rauen gegen Gewalt e.V.\, Notruf Köln\n\n	Gruppengröße: max. 8 Frauen\n
  \n \nStart: Samstag\, 31. Oktober 2020\nDauer: 15-17 Uhr\, 8 Einheiten\, 
 14-tägig\nKostenbeteitrag: 60€ (Ermäßigung bis 50% nach Selbsteinsch
 ätzung möglich) für 8 Termine\nOrt: Kartäuserwall 22\, Eingang Ecke Ka
 rtäuserhof\, 50678 Köln-Südstadt\nKinderbetreuung: kann auf Anfrage org
 anisiert werden (Bedarf bitte frühzeitig anmelden) \n\nWichtig:\nDieses G
 ruppenangebot ersetzt keine psychotherapeutische Einzeltherapie. Es bedarf
  keiner künstlerischen Vorerfahrungen oder spezifischer Begabungen. Die T
 eilnehmerinnen* sollten sich stark genug fühlen\, um sich auch auf die Dy
 namik einer Gruppe einlassen zu können. \n\nHier ist der Flyer: Flyer Kun
 sttherapie Herbst 2020 (pdf-Datei\, 617 KB)\n \nVeranstalterin:\nNotruf un
 d Beratung für vergewaltigte Frauen - Frauen gegen Gewalt e.V. (Notruf K
 öln)\n\nAnsprechpartnerin:\nIrmgard Kopetzky\, Tel.: 0221 / 56 20 35\, E-
 Mail: mailbox@notruf-koeln.de\n\nKosten / Anmeldung:\nDer Info-Termin ist 
 kostenlos und unverbindlich. Eine Anmeldung beim Notruf Köln ist unbeding
 t erforderlich und auch anonymisiert möglich!
END:VEVENT
BEGIN:VTIMEZONE
TZID:Europe/Berlin
X-LIC-LOCATION:Europe/Berlin
BEGIN:DAYLIGHT
DTSTART:20200329T030000
TZOFFSETFROM:+0100
TZOFFSETTO:+0200
TZNAME:CEST
END:DAYLIGHT
END:VTIMEZONE
END:VCALENDAR