BEGIN:VCALENDAR
VERSION:2.0
PRODID:-//wp-events-plugin.com//7.2.3.1//EN
TZID:Europe/Berlin
X-WR-TIMEZONE:Europe/Berlin
BEGIN:VEVENT
UID:3374@frauenportal.koeln
DTSTART;TZID=Europe/Berlin:20211029T160000
DTEND;TZID=Europe/Berlin:20211029T173000
DTSTAMP:20211019T073705Z
URL:https://frauenportal.koeln/veranstaltungen/info-termin-notruf-koeln-ku
 nsttherapeutische-gruppe-4/
SUMMARY:Info-Termin Notruf Köln: Kunsttherapeutische Gruppe
DESCRIPTION:Kostenloser und unverbindlicher Info-Termin für die\n\nKunstth
 erapeutische Gruppe für gewaltbetroffene Frauen* (sexualisierte Gewalt)\n
 \nDer Schwerpunkt dieser kunsttherapeutischen Gruppe wird auf der Stabilis
 ierung liegen. Es wird mit Materialien gearbeitet\, die diesen Prozess unt
 erstützen\, wie z.B. Sand\, Kreide\, Ton\, aber auch Gold.  Der Fokus wir
 d auf den Prozess des Erlebens gelegt. Die Gestaltung mit der Auswahl der 
 erdenden Materialien wirkt schon durch das Tun beruhigend und ausgleichend
 \, erleichtert eine Zentrierung auf das Hier und Jetzt. \n \n\n	Kursleiter
 in: Johanna Gunkel (Kunsttherapeutin BA\, BVAKT\, Diplom Designerin)\n\n  
       Organisiert und begleitet vom Notruf für vergewaltigte Frauen – F
 rauen gegen Gewalt e.V.\, Notruf Köln\n\n	Gruppengröße: max. 8 Frauen\n
  \n \nStart: Freitag\, 5. November 2021\nDauer: 16-18 Uhr\, 7 Einheiten (5
 .11. / 12.11. / 19.11. / 26.11. / 3.12. / 10.12. / 17.12.)\nKostenbeitrag:
  70€ (Ermäßigung bis 50% möglich) für 7 Termine\nOrt: Kartäuserwall
  22\, Eingang Ecke Kartäuserhof\, 50678 Köln-Südstadt\nKinderbetreuung:
  kann auf Anfrage organisiert werden (Bedarf bitte frühzeitig anmelden) \
 n\nWichtig:\nDieses Gruppenangebot ersetzt keine psychotherapeutische Einz
 eltherapie. Es bedarf keiner künstlerischen Vorerfahrungen oder spezifisc
 her Begabungen. Die Teilnehmerinnen* sollten sich stark genug fühlen\, um
  sich auch auf die Dynamik einer Gruppe einlassen zu können. \n\nHier ist
  der Flyer: Flyer Kunsttherapie 2. HJ 2021 (pdf-Datei\, 621 KB)\n \nVerans
 talterin:\nNotruf und Beratung für vergewaltigte Frauen - Frauen gegen Ge
 walt e.V. (Notruf Köln)\n\nAnsprechpartnerin:\nIrmgard Kopetzky\, Tel.: 0
 221 / 56 20 35\, E-Mail: mailbox@notruf-koeln.de\n\nKosten / Anmeldung:\nD
 er Info-Termin ist kostenlos und unverbindlich. Eine Anmeldung beim Notruf
  Köln ist unbedingt erforderlich und auch anonymisiert möglich!
END:VEVENT
BEGIN:VTIMEZONE
TZID:Europe/Berlin
X-LIC-LOCATION:Europe/Berlin
BEGIN:DAYLIGHT
DTSTART:20210328T030000
TZOFFSETFROM:+0100
TZOFFSETTO:+0200
TZNAME:CEST
END:DAYLIGHT
END:VTIMEZONE
END:VCALENDAR