BEGIN:VCALENDAR
VERSION:2.0
PRODID:-//wp-events-plugin.com//7.2.3.1//EN
TZID:Europe/Berlin
X-WR-TIMEZONE:Europe/Berlin
BEGIN:VEVENT
UID:5157@frauenportal.koeln
DTSTART;TZID=Europe/Berlin:20240916T183000
DTEND;TZID=Europe/Berlin:20240916T200000
DTSTAMP:20240828T123349Z
URL:https://frauenportal.koeln/veranstaltungen/info-termin-notruf-koeln-tr
 aumasensibles-yoga-2/
SUMMARY:Info-Termin Notruf Köln: Traumasensibles Yoga
DESCRIPTION:– Kostenloser und unverbindlicher Info-Termin –\n\nDer Kurs
  richtet sich vorrangig an Frauen\, die sexualisierte Gewalt erlebt haben.
  Neben verschiedenen Körper- und Entspannungsübungen gibt es kleine inha
 ltliche Inputs zur Wirkung von traumasensiblem Yoga. Die Kursinhalte sind 
 so gestaltet\, dass die Übungen auch zu Hause und im Alltag zur Regulatio
 n des Nervensystems genutzt und praktiziert werden können. \n\nStart: Mon
 tag\, 23. September 2024\n6 Termine\, jeweils 18.30-20.00 Uhr\n\nKursleite
 rin: Nadia Ochs\, Systemische Therapeutin (DGSF) & Yogalehrerin\n\nKostenb
 eteiligung: 60 € (Ermäßigung bis max. 50% nach Selbsteinschätzung mö
 glich)\n\nHier ist der Flyer: Flyer Herbstkurs Yoga 2024 (pdf-Datei\, 675 
 KB)\n\nVeranstalterin:\nNotruf und Beratung für vergewaltigte Frauen - Fr
 auen gegen Gewalt e.V. (Notruf Köln)\n\nAnsprechpartnerin:\nIrmgard Kopet
 zky\, Tel.: 0221 / 56 20 35\, E-Mail: mailbox@notruf-koeln.de\n\nKosten / 
 Anmeldung:\nDer Info-Termin ist kostenlos und unverbindlich. Eine Anmeldun
 g beim Notruf Köln ist unbedingt erforderlich und auch anonymisiert mögl
 ich!\n\nVeranstaltungsort:\nDer genaue Veranstaltungsort wird bei Anmeldun
 g mitgeteilt.
END:VEVENT
BEGIN:VTIMEZONE
TZID:Europe/Berlin
X-LIC-LOCATION:Europe/Berlin
BEGIN:DAYLIGHT
DTSTART:20240331T030000
TZOFFSETFROM:+0100
TZOFFSETTO:+0200
TZNAME:CEST
END:DAYLIGHT
END:VTIMEZONE
END:VCALENDAR