BEGIN:VCALENDAR
VERSION:2.0
PRODID:-//wp-events-plugin.com//7.2.3.1//EN
TZID:Europe/Berlin
X-WR-TIMEZONE:Europe/Berlin
BEGIN:VEVENT
UID:3129@frauenportal.koeln
DTSTART;TZID=Europe/Berlin;VALUE=DATE:20210305
DTEND;TZID=Europe/Berlin;VALUE=DATE:20210306
DTSTAMP:20201218T140220Z
URL:https://frauenportal.koeln/veranstaltungen/info-weltgebetstag-der-frau
 en-2021/
SUMMARY:Info: Weltgebetstag der Frauen
DESCRIPTION:Der Weltgebetstag der Frauen ist die größte ökumenische Basi
 sbewegung christlicher Frauen. Er findet seit 1927 jedes Jahr am 1. Freita
 g im März statt.\n\nUnter dem Motto "Informiert beten – betend handeln"
  wird der Weltgebetstag in über 170 Ländern in ökumenischen Gottesdiens
 ten begangen.\n\nJedes Jahr schreiben Frauen aus einem anderen Land der We
 lt die Gottesdienstordnung zum Weltgebetstag.\n\nVor Ort bereiten Frauen u
 nterschiedlicher Konfessionen gemeinsam die Gestaltung und Durchführung d
 er Gottesdienste vor. \n\nMehr dazu: Wikipedia und https://weltgebetstag.d
 e
END:VEVENT
BEGIN:VTIMEZONE
TZID:Europe/Berlin
X-LIC-LOCATION:Europe/Berlin
BEGIN:STANDARD
DTSTART:20201025T020000
TZOFFSETFROM:+0200
TZOFFSETTO:+0100
TZNAME:CET
END:STANDARD
END:VTIMEZONE
END:VCALENDAR