BEGIN:VCALENDAR
VERSION:2.0
PRODID:-//wp-events-plugin.com//7.2.3.1//EN
TZID:Europe/Berlin
X-WR-TIMEZONE:Europe/Berlin
BEGIN:VEVENT
UID:3431@frauenportal.koeln
DTSTART;TZID=Europe/Berlin;VALUE=DATE:20220304
DTEND;TZID=Europe/Berlin;VALUE=DATE:20220305
DTSTAMP:20211103T140558Z
URL:https://frauenportal.koeln/veranstaltungen/info-weltgebetstag-der-frau
 en-2022/
SUMMARY:Info: Weltgebetstag der Frauen
DESCRIPTION:Der Weltgebetstag der Frauen ist die größte ökumenische Basi
 sbewegung christlicher Frauen. Er findet seit 1927 jedes Jahr am 1. Freita
 g im März statt.\n\nUnter dem Motto "Informiert beten – betend handeln"
  wird der Weltgebetstag in über 170 Ländern in ökumenischen Gottesdiens
 ten begangen.\n\nJedes Jahr schreiben Frauen aus einem anderen Land der We
 lt die Gottesdienstordnung zum Weltgebetstag.\n\nVor Ort bereiten Frauen u
 nterschiedlicher Konfessionen gemeinsam die Gestaltung und Durchführung d
 er Gottesdienste vor. \n\nMehr dazu: Wikipedia und https://weltgebetstag.d
 e
END:VEVENT
BEGIN:VTIMEZONE
TZID:Europe/Berlin
X-LIC-LOCATION:Europe/Berlin
BEGIN:STANDARD
DTSTART:20211031T020000
TZOFFSETFROM:+0200
TZOFFSETTO:+0100
TZNAME:CET
END:STANDARD
END:VTIMEZONE
END:VCALENDAR