BEGIN:VCALENDAR
VERSION:2.0
PRODID:-//wp-events-plugin.com//7.2.3.1//EN
TZID:Europe/Berlin
X-WR-TIMEZONE:Europe/Berlin
BEGIN:VEVENT
UID:2110@frauenportal.koeln
DTSTART;TZID=Europe/Berlin:20191120T090000
DTEND;TZID=Europe/Berlin:20191120T130000
DTSTAMP:20190930T112951Z
URL:https://frauenportal.koeln/veranstaltungen/infotag-zum-beruflichen-wie
 dereinstieg-2/
SUMMARY:Infotag zum beruflichen Wiedereinstieg
DESCRIPTION:Das Kölner Netzwerk Wiedereinstieg bringt für inspirierende E
 ltern auf die  Bühne\,  bietet praxisnahe Workshops\, spannende Podiumsdi
 skussionen und viel Raum für intensiven Austausch. Für Kinderbetreuung i
 st gesorgt.  \n\nHier ist die Einladung mit Programm: Infotag Beruflicher 
 Wiedereinstieg 2019 (pdf-Datei\, 700 KB)\n\nVeranstalterin:\nNetzwerk W (W
 iedereinstieg) Köln\, www.netzwerkw-koeln.de\n\nAnsprechpartnerin:\nAgnes
  Metz\, Beauftragte für Chancengleichheit am Arbeitsmarkt\, Tel: 0221 / 9
 429-5400\, E-Mail: Koeln.BCA@arbeitsagentur.de  \n\nKosten / Anmeldung:\nE
 intritt frei.\n\nVeranstaltungsort:\nBürgerzentrum Nippes - Altenberger H
 of\, Mauenheimer Str. 92\, 50733 Köln\, [map id=933]\n
END:VEVENT
BEGIN:VTIMEZONE
TZID:Europe/Berlin
X-LIC-LOCATION:Europe/Berlin
BEGIN:STANDARD
DTSTART:20191027T020000
TZOFFSETFROM:+0200
TZOFFSETTO:+0100
TZNAME:CET
END:STANDARD
END:VTIMEZONE
END:VCALENDAR