BEGIN:VCALENDAR
VERSION:2.0
PRODID:-//wp-events-plugin.com//7.2.3.1//EN
TZID:Europe/Berlin
X-WR-TIMEZONE:Europe/Berlin
BEGIN:VEVENT
UID:1388@frauenportal.koeln
DTSTART;TZID=Europe/Berlin:20181108T090000
DTEND;TZID=Europe/Berlin:20181108T130000
DTSTAMP:20181031T170337Z
URL:https://frauenportal.koeln/veranstaltungen/infotag-zum-beruflichen-wie
 dereinstieg/
SUMMARY:Infotag zum beruflichen Wiedereinstieg
DESCRIPTION:... für Frauen zu den Themen Bildung\, Beruf und Familie.\n\nP
 rogramm:\n\n9.00 Uhr Eröffnung // Podiumsdiskussionen "Wie Wiedereinstieg
  gelingen kann – Frauen berichten" mit Petra Hoffmann und Sonja Bouchire
 b\, Geschäftsführerinnen Känguru Stadtmagazin\, www.kaenguru-online.de\
 n\n10.00 Uhr Kreativer Austausch Vorstellung der Angebote\n\n10.30 Uhr Er
 öffnung der Infostände // Erste Runde Workshops\n\n11.30 Uhr Come togeth
 er mit Snacks\n\n12.00 Uhr Zweite Runde Workshops\n\n12.45 Uhr Come togeth
 er Gemeinsamer Abschluss\n\nModeration: Petra Welz\, Geld & Rosen\, www.ge
 ldundrosen.petrawelz.de\n\nWorkshops:\n\nSich selbst motivieren & gekonnt 
 kommunizieren\nAnika Knauer\, Kommunikationstrainerin\, www.anikaknauer.co
 m\n\nDie Sprache der Kleidung - gekonnt im Job auftreten\nAstrid Windfuhr\
 ,  Kommunikations- und Stilberatung\n\nWie „ticken“ Unternehmen – Ar
 beitgeber gekonnt überzeugen\nDr. Valerie Müller\, Researcher Kompetenzz
 entrum Fachkräftesicherung des Instituts der deutschen Wirtschaft\n\nInfo
 stände:\n\nBeratung zum beruflichen Wiedereinstieg\n• „Länger raus 
 – mach was draus!“\n\nFamilienmanagement\n• Kinderbetreuungsmöglich
 keiten\n\nBerufswegplanung\n• Fähigkeiten\, Talente\, Qualitäten entde
 cken\n\nMobile Anerkennungsberatung\n• Beratung zur Anerkennung von Schu
 l- und Berufsabschlüssen aus dem Ausland\n\nQualifizierungsberatung\n• 
 Teilzeitberufsausbildung\n• Kölner Bildungsmodell\n\nKostenfreie Kinder
 betreuung während der Veranstaltung. \nZusätzlich bringt die rollende Ki
 nderwerkstatt „der Basti-Bus“ Spaß & Spannung (www.basti-bus.de).\n\n
 Hier ist die Einladung: Infotag Beruflicher Wiedereinstieg 2018 (pdf-Datei
 \, 1 MB)\n\nVeranstalterin:\nNetzwerk W (Wiedereinstieg) Köln\, www.netzw
 erkw-koeln.de\n\nAnsprechpartnerin:\nAgnes Metz\, Beauftragte für Chancen
 gleichheit am Arbeitsmarkt\, Tel: 0221 / 9429-5400\, E-Mail: Koeln.BCA@arb
 eitsagentur.de  \n\nKosten / Anmeldung:\nEintritt frei.\n\nVeranstaltungso
 rt:\nAlte Feuerwache\, großer Saal\, Melchiorstraße 3\, 50670 Köln\, [m
 ap id=919]\n\n
END:VEVENT
BEGIN:VTIMEZONE
TZID:Europe/Berlin
X-LIC-LOCATION:Europe/Berlin
BEGIN:STANDARD
DTSTART:20181028T020000
TZOFFSETFROM:+0200
TZOFFSETTO:+0100
TZNAME:CET
END:STANDARD
END:VTIMEZONE
END:VCALENDAR