BEGIN:VCALENDAR
VERSION:2.0
PRODID:-//wp-events-plugin.com//7.2.3.1//EN
TZID:Europe/Berlin
X-WR-TIMEZONE:Europe/Berlin
BEGIN:VEVENT
UID:2417@frauenportal.koeln
DTSTART;TZID=Europe/Berlin:20191108T190000
DTEND;TZID=Europe/Berlin:20191108T210000
DTSTAMP:20191030T183500Z
URL:https://frauenportal.koeln/veranstaltungen/infoveranstaltung-beginenvi
 lla/
SUMMARY:Infoveranstaltung BeginenVilla
DESCRIPTION:Die Projektgruppe stellt sich und ihre Aktivitäten für ein zw
 eites Beginenhaus in Köln vor. \nWie könnte ein von Frauen selbst bestim
 mtes Wohnprojekt aussehen? Welche Ideen und Wege zu einer Realisierung sin
 d notwendig?\n\nInteressentinnen bitte anmelden bei Christiane Simonis fü
 r die BeginenVilla Köln. E-Mail: info@beginenvilla.koeln\n\nVeranstalteri
 n:\nBeginen Köln e.V.\n\nKontakt:\nChristine Müthrath\, Tel.: 0221 / 965
 5820\, E-Mail: info@beginen.de\n\nVeranstaltungsort:\nBeginenfenster\, Mar
 kmannsgasse 7\, 50667 Köln\, [map id=891]
END:VEVENT
BEGIN:VTIMEZONE
TZID:Europe/Berlin
X-LIC-LOCATION:Europe/Berlin
BEGIN:STANDARD
DTSTART:20191027T020000
TZOFFSETFROM:+0200
TZOFFSETTO:+0100
TZNAME:CET
END:STANDARD
END:VTIMEZONE
END:VCALENDAR