BEGIN:VCALENDAR
VERSION:2.0
PRODID:-//wp-events-plugin.com//7.2.3.1//EN
TZID:Europe/Berlin
X-WR-TIMEZONE:Europe/Berlin
BEGIN:VEVENT
UID:3747@frauenportal.koeln
DTSTART;TZID=Europe/Berlin:20220601T100000
DTEND;TZID=Europe/Berlin:20220601T130000
DTSTAMP:20220429T124840Z
URL:https://frauenportal.koeln/veranstaltungen/infoveranstaltung-entscheid
 ung-gewaltfrei/
SUMMARY:Infoveranstaltung "Entscheidung: Gewaltfrei"
DESCRIPTION:Wir wissen\, jede dritte Frau in Deutschland erfährt körperli
 che oder sexualisierte Gewalt. In Köln gibt es ein differenziertes Hilfes
 ystem für Betroffene von (Häuslicher) Gewalt.\n \nDoch was ist mit den g
 ewaltausübenden Personen? Nicht selten sehnen sich Betroffene nicht nach 
 einem Ende der Beziehung\, sondern nach einem Ende der Gewalt. Ist das mö
 glich?\n \nDie Expert*innen Marc Thomas und Celina Neuß von der AWO Köln
  berichten über ihre Arbeit im Umgang mit Gewaltausübenden und die Verne
 tzung in Köln. Nach einer Vorstellung des Angebots und praktischen Übung
 en zum Erkennen von Täterstrategien gibt es die Möglichkeit Fragen zu st
 ellen und mehr über diese spannende Arbeit zu erfahren.\n\nDie Veranstalt
 ung wendet sich an Fachkräfte und alle am Thema interessierte Personen.\n
 \nHier ist die Einladung: Infoveranstaltung Entscheidung Gewaltfrei 2022 (
 pdf-Datei\, 215 KB)\n\nVeranstaltende:\nAWO KV Köln e.V.\, www.awo-koeln.
 de\nAmt für Gleichstellung von Frauen und Männern der Stadt Köln\n\nKon
 takt:\nTel.: 0221 / 221 264 72\, E-Mail: gleichstellungsamt@stadt-koeln.de
 \n\nKosten / Anmeldung:\nUm Anmeldung wird gebeten bis zum 27.05.2022 per 
 E-Mail an gleichstellungsamt@stadt-koeln.de\nDie Veranstaltung ist kostenf
 rei.\n\nVeranstaltungsort:\nBürgerzentrum Alte Feuerwache\, großes Forum
  im Südtrakt\, Melchiorstr. 3\, 50670 Köln\, [map id=919]\n
END:VEVENT
BEGIN:VTIMEZONE
TZID:Europe/Berlin
X-LIC-LOCATION:Europe/Berlin
BEGIN:DAYLIGHT
DTSTART:20220327T030000
TZOFFSETFROM:+0100
TZOFFSETTO:+0200
TZNAME:CEST
END:DAYLIGHT
END:VTIMEZONE
END:VCALENDAR