BEGIN:VCALENDAR
VERSION:2.0
PRODID:-//wp-events-plugin.com//7.2.3.1//EN
TZID:Europe/Berlin
X-WR-TIMEZONE:Europe/Berlin
BEGIN:VEVENT
UID:3178@frauenportal.koeln
DTSTART;TZID=Europe/Berlin:20210307T120000
DTEND;TZID=Europe/Berlin:20210307T180000
DTSTAMP:20241115T085249Z
URL:https://frauenportal.koeln/veranstaltungen/internationaler-frauentag-i
 ft-digitale-veranstaltung/
SUMMARY:Internationaler Frauentag (IFT) - Digitale Veranstaltung
DESCRIPTION:Motto: lokal verbunden • digital vernetzt • im Handeln vere
 int\n\nAnlässlich des diesjährigen Internationalen Frauentags veranstalt
 et das Amt für Gleichstellung von Frauen und Männern mit Unterstützung 
 des „Aktionsbündnis Internationaler Frauentag“ eine digitale Veransta
 ltung am Sonntag\, 7. März von 12 – 18 Uhr.\n\nHier ist die Einladung: 
 Einladung IFT 07.03.2021 (pdf-Datei\, 77 KB)\n\nDies ist der Programmflyer
 : Programmflyer IFT 07.03.2021 (pdf-Datei\, 224 KB)\n\nHier geht es zum Pr
 ogramm mit den Einwahldaten (kurz vor dem Event): www.ift.koeln\n\nAuch in
  diesem Jahr gestaltet das Aktionsbündnis\, eine Kooperation der Kölner 
 Frauenorganisationen mit dem Amt für Gleichstellung von Frauen und Männe
 rn der Stadt Köln\, die Veranstaltung der Stadt Köln zum Weltfrauentag i
 m Rathaus. Das Aktionsbündnis besteht seit 2011\, als es anlässlich der 
 100 Jahre Internationaler Frauentag vom Roncalli-Platz ins Rathaus zog.\n\
 nVeranstalterinnen:\n\n 	Amt für Gleichstellung von Frauen und Männern d
 er Stadt Köln (Federführung)\n 	DGB Stadtfrauenausschuss\n 	Arbeitskreis
  Kölner Frauenvereinigungen (AKF)\n 	Frauen &amp\; Cologne - Arbeitskreis
  Gleichstellungs- und Frauenbeauftragte Köln\n 	Bundesverband der Migrant
 innen in Deutschland e.V.\, www.migrantinnen.net\n 	BPW Germany Club Köln
 \n 	Lila in Köln - Bündnis autonomer Frauenprojekte gegen Gewalt\n 	Arbe
 itsgemeinschaft sozialdemokratischer Frauen (asf)\, www.asf-koeln.de\n 	B
 ündnis 90/Die Grünen Köln\, www.gruenekoeln.de\n 	CDU Frauen Union\, ww
 w.cdu-koeln.de\n 	Liberale Frauen Bezirksverband Köln\, www.liberale-frau
 en-nrw.de\n 	Linke sozialistische Arbeitsgemeinschaft Frauen (LISA) Köln\
 , www.die-linke-koeln.de\n\nVeranstaltungsort:\nonline
END:VEVENT
BEGIN:VTIMEZONE
TZID:Europe/Berlin
X-LIC-LOCATION:Europe/Berlin
BEGIN:STANDARD
DTSTART:20201025T020000
TZOFFSETFROM:+0200
TZOFFSETTO:+0100
TZNAME:CET
END:STANDARD
END:VTIMEZONE
END:VCALENDAR