BEGIN:VCALENDAR
VERSION:2.0
PRODID:-//wp-events-plugin.com//7.2.3.1//EN
TZID:Europe/Berlin
X-WR-TIMEZONE:Europe/Berlin
BEGIN:VEVENT
UID:3669@frauenportal.koeln
DTSTART;TZID=Europe/Berlin;VALUE=DATE:20220308
DTEND;TZID=Europe/Berlin;VALUE=DATE:20220309
DTSTAMP:20241115T085102Z
URL:https://frauenportal.koeln/veranstaltungen/internationaler-frauentag-i
 ft-starke-frauen-starkes-koeln/
SUMMARY:Internationaler Frauentag (IFT) - "Starke Frauen\, starkes Köln!"
DESCRIPTION:Die traditionelle zentrale Veranstaltung des Aktionsbündnisses
  zum IFT wird wegen Corona auf Samstag\, den 11.06.2022 ab 14 Uhr verlegt:
  Internationaler Frauentag (IFT) – Open House nachgeholt\n\n\n\nOberbür
 germeisterin Henriette Reker wendet sich ein einer Videobotschaft zum Inte
 rnationalen Frauentag an die Kölnerinnen und Kölner: https://youtu.be/aS
 kIGv-UuE8\n\n\n\nLaunch des Kölner Frauen*Stadtplans!\n\nIm Rahmen des In
 ternationalen Frauentags wird erstmals der Kölner Frauen*Stadtplan online
  gehen\, eine Karte\, die den Nutzer*innen Informationen zu historischen u
 nd zeitgenössischen Frauen\, Frauenorganisationen sowie frauenrelevanten 
 Orten in Köln bereitstellt.\n\nDer Kölner Frauen*Stadtplan ist ein Koope
 rationsprojekt der Stiftung Frauen*leben (www.stiftung-frauenleben.koeln) 
 mit dem Kölner Frauengeschichtsverein e.V. und dem Amt für Gleichstellun
 g von Frauen und Männern der Stadt Köln.\n\nDas Projekt ist langfristig 
 angelegt und wird über die nächsten Jahre stetig wachsen. Die Website wi
 rd ab dem 8. März zur Verfügung stehen: https://frauenstadtplan.koeln/\n
 \n\n\nRolle und Selbstverständnis von Frauen im Wandel der Zeit\nDas digi
 tale Sonderprogramm der Kölner Museen zum Weltfrauentag\n\nAus Anlass des
  internationalen Frauentags hat der Museumsdienst Köln zusammen mit vier 
 städtischen Museen ein kostenloses digitales Programm zusammengestellt\, 
 um einige der vielfältigen Lebensentwürfe\, Leistungen und Geschichten v
 on Frauen vorzustellen\, die in unterschiedlichen Epochen eine zentrale Ro
 lle spielen. Wer das kostenlose Angebot nutzt\, kann sich außerdem noch p
 ersönlich mit Vermittlerinnen des Museums austauschen.\n\nMehr dazu: www.
 stadt-koeln.de/politik-und-verwaltung/presse/rolle-und-selbstverstaendnis-
 von-frauen-im-wandel-der-zeit
END:VEVENT
BEGIN:VTIMEZONE
TZID:Europe/Berlin
X-LIC-LOCATION:Europe/Berlin
BEGIN:STANDARD
DTSTART:20211031T020000
TZOFFSETFROM:+0200
TZOFFSETTO:+0100
TZNAME:CET
END:STANDARD
END:VTIMEZONE
END:VCALENDAR