BEGIN:VCALENDAR
VERSION:2.0
PRODID:-//wp-events-plugin.com//7.2.3.1//EN
TZID:Europe/Berlin
X-WR-TIMEZONE:Europe/Berlin
BEGIN:VEVENT
UID:518@frauenportal.koeln
DTSTART;TZID=Europe/Berlin:20170919T153000
DTEND;TZID=Europe/Berlin:20170919T180000
DTSTAMP:20170901T084231Z
URL:https://frauenportal.koeln/veranstaltungen/interreligioese-erzaehlwerk
 statt/
SUMMARY:Interreligiöse Erzählwerkstatt
DESCRIPTION:Zwischen Geburt und Tod\, zwischen jüdischen\, christlichen un
 d muslimischen Lebenswelten\, zwischen alten und neuen\, zwischen einheimi
 schen und zugewanderten Kölnerinnen gibt es viel auszutauschen. Mit Impul
 sreferaten\, Gesprächen und der Vorstellung der Begegnungsorte soll das V
 erständnis zwischen Hagars und Sarahs Töchtern erweitert und vertieft we
 rden. Gastgeberinnen sind Sabira Bouhired\, Stella Sherbatova und Dorothee
  Schaper. \n\nVeranstalterinnen:\nFrauenreferat und Frauenbeauftragte der 
 Ev. Kirche in Köln und Melanchthon-Akademie Köln\, www.melanchthon-akade
 mie.de\n\nAnsprechpartnerin:\nDorothee Schaper\, Tel.: 0221 /33 82-105\, E
 -Mail: frauenreferat@kirche-koeln.de\n\nKosten / Anmeldung:\nE-Mail: anmel
 dung@melanchthon-akademie.de oder Tel.: 0221 / 93 18 030\n\nVeranstaltungs
 ort:\nBFmF – Begegnungs- und Fortbildungszentrum muslimischer Frauen e.V
 .\, Liebigstr. 120 b\, 50823 Köln\, [map id=950]\n\n
END:VEVENT
BEGIN:VTIMEZONE
TZID:Europe/Berlin
X-LIC-LOCATION:Europe/Berlin
BEGIN:DAYLIGHT
DTSTART:20170326T030000
TZOFFSETFROM:+0100
TZOFFSETTO:+0200
TZNAME:CEST
END:DAYLIGHT
END:VTIMEZONE
END:VCALENDAR