BEGIN:VCALENDAR
VERSION:2.0
PRODID:-//wp-events-plugin.com//7.2.3.1//EN
TZID:Europe/Berlin
X-WR-TIMEZONE:Europe/Berlin
BEGIN:VEVENT
UID:4283@frauenportal.koeln
DTSTART;TZID=Europe/Berlin:20230512T193000
DTEND;TZID=Europe/Berlin:20230512T210000
DTSTAMP:20230430T100033Z
URL:https://frauenportal.koeln/veranstaltungen/irmgard-keun-verfemt-und-ve
 rboten/
SUMMARY:Irmgard Keun- verfemt und verboten
DESCRIPTION:– verbrannt & verbannt - Aktionswoche 90 Jahre Bücherverbren
 nung – \n\nIllustrierter Vortrag zu Keuns Leben und Werk \n\nReferentin:
 \nIna Hoerner\, Kölner Frauengeschichtsverein\n\nVeranstalterin:\nKölner
  Frauengeschichtsverein e.V.\n\nKontakt:\nTel.: 0221 / 24 82 65\, E-Mail: 
 info@frauengeschichtsverein.de\n\nKosten / Anmeldung:\nKostenfrei. Spenden
  erbeten.
LOCATION:Buchhandlung Weyer\, Höninger Weg 181\, 50969 Köln
GEO:50.911467;6.941562
X-APPLE-STRUCTURED-LOCATION;VALUE=URI;X-ADDRESS=Höninger Weg 181\, Köln\,
  Nordrhein-Westfalen\, 50969\, Veranstaltungsort\, Deutschland;X-APPLE-RAD
 IUS=100;X-TITLE=Buchhandlung Weyer:geo:50.911467,6.941562
END:VEVENT
BEGIN:VTIMEZONE
TZID:Europe/Berlin
X-LIC-LOCATION:Europe/Berlin
BEGIN:DAYLIGHT
DTSTART:20230326T030000
TZOFFSETFROM:+0100
TZOFFSETTO:+0200
TZNAME:CEST
END:DAYLIGHT
END:VTIMEZONE
END:VCALENDAR