BEGIN:VCALENDAR
VERSION:2.0
PRODID:-//wp-events-plugin.com//7.2.3.1//EN
TZID:Europe/Berlin
X-WR-TIMEZONE:Europe/Berlin
BEGIN:VEVENT
UID:3657@frauenportal.koeln
DTSTART;TZID=Europe/Berlin:20220207T193000
DTEND;TZID=Europe/Berlin:20220207T214500
DTSTAMP:20220202T121451Z
URL:https://frauenportal.koeln/veranstaltungen/josefine-baker-weltstar-bue
 rgerrechtlerin/
SUMMARY:Josefine Baker: Weltstar\, Bürgerrechtlerin
DESCRIPTION:- Vortrag von Rahab Njeri zum Black History Month -\n\nJosefine
  Baker (1906-1975) aus den Südstaaten der USA trat seit ihrem 16. Lebensj
 ahr als leidenschaftliche Tänzerin auf. Ab Mitte der 1920er Jahre trug Jo
 sephine Baker von Paris aus zum Siegeszug des Jazz und Charleston durch Eu
 ropa und die ganze Welt bei. Im Zweiten Weltkrieg war sie in der Résistan
 ce aktiv.\n\nNeben ihrer Karriere als Tänzerin und Sängerin engagierte s
 ich Baker stark für Toleranz gegenüber Ethnien und Religionen. U.a. adop
 tierte sie 12 Waisenhauskinder unterschiedlicher ethnischer Herkunft. Als 
 erste schwarze Frau erhielt sie jüngst einen Platz im Panthéon in Paris.
 \n\nVeranstalterin:\nFriedensbildungswerk Köln (www.friedensbildungswerk.
 de)\nin Kooperation mit dem Kölner Frauengeschichtsverein e.V.\n\nKontakt
 :\nTel.: 0221 / 24 82 65\, E-Mail: info@frauengeschichtsverein.de\n\nKoste
 n / Anmeldung:\nEintritt frei\, Spenden erbeten.\nCorona-Status: 2 G - Aus
 weiskontrolle - Maskenpflicht - Abstand. \nWegen begrenzter Platzzahl ist 
 eine Anmeldung sinnvoll\, gern per E-Mail unter info@frauengeschichtsverei
 n.de  \n\nVeranstaltungsort:\nBürgerzentrum Alte Feuerwache\, großes For
 um im Südtrakt\, Melchiorstr. 3\, 50670 Köln\, [map id=919]\n
END:VEVENT
BEGIN:VTIMEZONE
TZID:Europe/Berlin
X-LIC-LOCATION:Europe/Berlin
BEGIN:STANDARD
DTSTART:20211031T020000
TZOFFSETFROM:+0200
TZOFFSETTO:+0100
TZNAME:CET
END:STANDARD
END:VTIMEZONE
END:VCALENDAR