BEGIN:VCALENDAR
VERSION:2.0
PRODID:-//wp-events-plugin.com//7.2.3.1//EN
TZID:Europe/Berlin
X-WR-TIMEZONE:Europe/Berlin
BEGIN:VEVENT
UID:4734@frauenportal.koeln
DTSTART;TZID=Europe/Berlin:20240312T153000
DTEND;TZID=Europe/Berlin:20240312T193000
DTSTAMP:20241115T084939Z
URL:https://frauenportal.koeln/veranstaltungen/jubilaeumsfeier-von-akad-fm
 -fm-zu-ift-und-nowrooz/
SUMMARY:Jubiläumsfeier von AKAD FM-FM zu IFT und Nowrooz
DESCRIPTION:– Feier zum siebenjährigen Bestehen der Kurse und Veranstalt
 ungen von AKAD FM-FM\, zum internationalen Frauentag und Nowrooz –\n\nPr
 ogrammpunkte:\n\nGrußworte von Frau Stiller\, Bezirksbürgermeisterin von
  Köln-Porz\, Frau Vafai\, Gleichstellungsbeauftragte der Kolpingstadt Ker
 pen\, Frau Stender\, Vorsitzende der RG Düsseldorf vom Deutschen Akademik
 erinnenbund e.V. und von Herrn Yashar Erfanian\, vom Kölner Flüchtlingsr
 at e.V.\n\nVorstellung der Aktivitäten von AKAD FM-FM\, Gruppenauftritt v
 om Violinkurs von Frau Parisa Badiyi von der Carl-Stamitz-Musikschule\, Pr
 ogrammpunkt zum siebenjährigen Bestehen der Kurse von AKAD FM-FM\, Worksh
 op zum Dekorieren von Eiern\, Live-Auftritt des Kinder-Gesangskurses gegen
  Rassismus\, Panel von beim Berufseinstieg erfolgreichen AKAD FM-FM-Frauen
 \, Live-Auftritte von AKAD FM-FM-Sängerinnen\, Vorstellung von 08. März 
 und Nowrooz sowie Stellungnahme gegen rassistische Tendenzen in Deutschlan
 d und für Frauen\, Leben\, Freiheit. \n\nVeranstalterin:\nArbeitsgruppe d
 er Akademikerinnen in Menschenrechte-Einundzwanzig e.V.\, https://akadfmfm
 -menschenrechte21ev.com\n\nAnsprechpartnerin:\nAfsar Soheila Sattari\, Tel
 .: 0178 / 6357200\, E-Mail: a.sattari@goal-epmts.de
LOCATION:Jugend- und Gemeinschaftszentrum Glashütte\, Glashüttenstr. 20\,
  51143 Köln
GEO:50.88601999999999;7.060089999999946
X-APPLE-STRUCTURED-LOCATION;VALUE=URI;X-ADDRESS=Glashüttenstr. 20\, Köln\
 , 51143\, Veranstaltungsort\, Deutschland;X-APPLE-RADIUS=100;X-TITLE=Jugen
 d- und Gemeinschaftszentrum Glashütte:geo:50.88601999999999,7.06008999999
 9946
END:VEVENT
BEGIN:VTIMEZONE
TZID:Europe/Berlin
X-LIC-LOCATION:Europe/Berlin
BEGIN:STANDARD
DTSTART:20231029T020000
TZOFFSETFROM:+0200
TZOFFSETTO:+0100
TZNAME:CET
END:STANDARD
END:VTIMEZONE
END:VCALENDAR