BEGIN:VCALENDAR
VERSION:2.0
PRODID:-//wp-events-plugin.com//7.2.3.1//EN
TZID:Europe/Berlin
X-WR-TIMEZONE:Europe/Berlin
BEGIN:VEVENT
UID:3319@frauenportal.koeln
DTSTART;TZID=Europe/Berlin:20210930T193000
DTEND;TZID=Europe/Berlin:20210930T210000
DTSTAMP:20210816T134313Z
URL:https://frauenportal.koeln/veranstaltungen/juedinnen-in-koeln-religioe
 s-karitativ-feministisch-kein-widerspruch/
SUMMARY:Jüdinnen in Köln – religiös\, karitativ\, feministisch - kein 
 Widerspruch?
DESCRIPTION:An diesem Abend werden Kölner Frauen vorgestellt\, die relevan
 te Positionen im städtischen und kulturellen Leben sowie in der Frauenbew
 egung einnahmen: die für die Synagogengemeinde Roonstraße aktive Klara C
 aro\, die Frauen der zionistischen Familie Bodenheimer\, Margarethe Tietz 
 als Kunst-Mäzenin und Wohltäterin jüdischer Einrichtungen\, die Frauenr
 echtlerin und Amtsleiterin Hertha Kraus (allerdings Quäkerin) sowie eine 
 Künstlerin aus der Gedok.\n\nReferentin:\nIrene Franken\, de.wikipedia.or
 g/wiki/Irene_Franken \n\nVeranstalterinnen:\nKölner Frauengeschichtsverei
 n e.V.\,\nStadt Köln\,\nMelanchthon-Akademie Köln\, Interent: www.melanc
 hthon-akademie.de\n\nKontakt:\nTel.: 0221 / 24 82 65\, E-Mail: info@frauen
 geschichtsverein.de\n\nKosten / Anmeldung:\nAnmeldung erforderlich unter a
 nmeldung@melanchthon-akademie.de\n\nVeranstaltungsort:\nMelanchthon-Akadem
 ie Köln\, Kartäuserwall 24b\, 50678 Köln\, [map id=931]
END:VEVENT
BEGIN:VTIMEZONE
TZID:Europe/Berlin
X-LIC-LOCATION:Europe/Berlin
BEGIN:DAYLIGHT
DTSTART:20210328T030000
TZOFFSETFROM:+0100
TZOFFSETTO:+0200
TZNAME:CEST
END:DAYLIGHT
END:VTIMEZONE
END:VCALENDAR