BEGIN:VCALENDAR
VERSION:2.0
PRODID:-//wp-events-plugin.com//7.2.3.1//EN
TZID:Europe/Berlin
X-WR-TIMEZONE:Europe/Berlin
BEGIN:VEVENT
UID:2732@frauenportal.koeln
DTSTART;TZID=Europe/Berlin:20200712T143000
DTEND;TZID=Europe/Berlin:20200712T163000
DTSTAMP:20200629T075709Z
URL:https://frauenportal.koeln/veranstaltungen/karnevalistisches-auf-dem-f
 riedhof-melaten-friedhofsfuehrung-2/
SUMMARY:Karnevalistisches auf dem Friedhof Melaten - Friedhofsführung
DESCRIPTION:Oft singen wir während der 5. Jahreszeit noch ihre Lieder und 
 haben ihre Namen doch nicht mehr präsent. Oder wissen Sie\, wer den Text\
 , den Jupp Schmitz als letzten Gruß auf seinem Grabstein stehen hat\, ver
 fasste? Bei diesem Gang über Melaten wird die Geschichte des Karnevals vo
 rüberziehen gelassen.\n\nAnmeldung erforderlich unter service@tour-agentu
 r.de\n\nDie Führung kostet 12\,00 Euro pro Person.
END:VEVENT
BEGIN:VTIMEZONE
TZID:Europe/Berlin
X-LIC-LOCATION:Europe/Berlin
BEGIN:DAYLIGHT
DTSTART:20200329T030000
TZOFFSETFROM:+0100
TZOFFSETTO:+0200
TZNAME:CEST
END:DAYLIGHT
END:VTIMEZONE
END:VCALENDAR