BEGIN:VCALENDAR
VERSION:2.0
PRODID:-//wp-events-plugin.com//7.2.3.1//EN
TZID:Europe/Berlin
X-WR-TIMEZONE:Europe/Berlin
BEGIN:VEVENT
UID:2769@frauenportal.koeln
DTSTART;TZID=Europe/Berlin:20210131T143000
DTEND;TZID=Europe/Berlin:20210131T163000
DTSTAMP:20210108T125253Z
URL:https://frauenportal.koeln/veranstaltungen/karnevalistisches-auf-dem-f
 riedhof-melaten-friedhofsfuehrung-3/
SUMMARY:Karnevalistisches auf dem Friedhof Melaten - Friedhofsführung
DESCRIPTION:Der Termin findet nicht statt.Oft singen wir während der 5. Ja
 hreszeit noch ihre Lieder und haben ihre Namen doch nicht mehr präsent. O
 der wissen Sie\, wer den Text\, den Jupp Schmitz als letzten Gruß auf sei
 nem Grabstein stehen hat\, verfasste? Bei diesem Gang über Melaten wird d
 ie Geschichte des Karnevals vorüberziehen gelassen.\n\nAnmeldung erforder
 lich unter service@tour-agentur.de\n\nDie Führung kostet 12\,00 Euro pro 
 Person.
END:VEVENT
BEGIN:VTIMEZONE
TZID:Europe/Berlin
X-LIC-LOCATION:Europe/Berlin
BEGIN:STANDARD
DTSTART:20201025T020000
TZOFFSETFROM:+0200
TZOFFSETTO:+0100
TZNAME:CET
END:STANDARD
END:VTIMEZONE
END:VCALENDAR