BEGIN:VCALENDAR
VERSION:2.0
PRODID:-//wp-events-plugin.com//7.2.3.1//EN
TZID:Europe/Berlin
X-WR-TIMEZONE:Europe/Berlin
BEGIN:VEVENT
UID:5792@frauenportal.koeln
DTSTART;TZID=Europe/Berlin:20251007T190000
DTEND;TZID=Europe/Berlin:20251007T213000
DTSTAMP:20250930T124127Z
URL:https://frauenportal.koeln/veranstaltungen/karriereakademie-koeln-salo
 n-2/
SUMMARY:Karriereakademie Köln - Salon
DESCRIPTION:– Netzwerken in entspannter Atmosphäre –\n\nDieses Mal geh
 t es um "Führung im Umbruch. Psychologische Sicherheit zwischen Abbau\, V
 eränderung und Neubeginn"\n\nDarüber wird gemeinsam gesprochen und disku
 tiert mit:\n- Lars Holocher\, Personalchef\, Pfeifer & Langen (Köln)\n- O
 tto Neuhof\, langjähriger Geschäftsführer Personal und Vertrieb & Arbei
 tsdirektor\, Deutsche Telekom AG und seit 2014 Oberbürgermeister von Bad 
 Honnef\n- Kai Panholzer\, Executive VP Sales & Marketing\, Loacker (Bozen)
 \n\nModeriert wird der Salon von Aleks Bechtel und Maurice Gajda.\n\nGanz 
 im Sinne eines Salons gibt es natürlich auch leckren Wein und Fingerfood.
 \n\nEinlass: ab 18.30 Uhr\, Beginn: 19.00 Uhr\nOrt: Karriereakademie Köln
 \, Voigtelstr. 7\, 50933 Köln\n\nDie Einnahmen der Veranstaltung werden a
 n ein Kinderhospiz in Köln gespendet. \nHier gehts zum Ticket: www.eventi
 m-light.com/de/a/66c35f596dd84619272d7982/e/68b1858fc60e884f9fd1d816
END:VEVENT
BEGIN:VTIMEZONE
TZID:Europe/Berlin
X-LIC-LOCATION:Europe/Berlin
BEGIN:DAYLIGHT
DTSTART:20250330T030000
TZOFFSETFROM:+0100
TZOFFSETTO:+0200
TZNAME:CEST
END:DAYLIGHT
END:VTIMEZONE
END:VCALENDAR