BEGIN:VCALENDAR
VERSION:2.0
PRODID:-//wp-events-plugin.com//7.2.3.1//EN
TZID:Europe/Berlin
X-WR-TIMEZONE:Europe/Berlin
BEGIN:VEVENT
UID:5529@frauenportal.koeln
DTSTART;TZID=Europe/Berlin:20250212T000000
DTEND;TZID=Europe/Berlin:20250212T000000
DTSTAMP:20250930T124011Z
URL:https://frauenportal.koeln/veranstaltungen/karriereakademie-koeln-salo
 n/
SUMMARY:Karriereakademie Köln - Salon
DESCRIPTION:– Netzwerken in entspannter Atmosphäre –\n\nDieses Mal geh
 t es um die Frage "Brauchen wir noch Empathie und Kreativität in Zeiten v
 on KI?". \n\nEs sprechen: \n- Gregor Gründgens\,  Director Brand Marketin
 g Vodafone Deutschland \n- Heiko Obermöller\, Synchronschauspieler und Sy
 nchronregisseur \n- Florian Steps\, IT-Experte bei Open XChange\n\nDurch d
 en Abend führen:\n- Aleksandra Bechtel\, TV-Moderatorin und Podcasterin\,
  Coachin an der Karriereakademie Köln\n- Maurice Gajda\, TV-Moderator und
  Podcaster\, Coach an der Karriereakademie Köln\n\nMittwoch\, 12.2.2025\,
  Einlass: ab 18.30 Uhr\, Beginn: 19.00 Uhr\nOrt: Karriereakademie Köln\, 
 Voigtelstr. 7\, 50933 Köln\n\nDie Einnahmen der Veranstaltung werden an d
 en Verein krebskranker Kinder Köln gespendet. \nHier ist der Flyer: Karri
 ereakademie Köln – Salon 02.2025 (pdf-Datei\, 63 KB)
END:VEVENT
BEGIN:VTIMEZONE
TZID:Europe/Berlin
X-LIC-LOCATION:Europe/Berlin
BEGIN:STANDARD
DTSTART:20241027T020000
TZOFFSETFROM:+0200
TZOFFSETTO:+0100
TZNAME:CET
END:STANDARD
END:VTIMEZONE
END:VCALENDAR