BEGIN:VCALENDAR
VERSION:2.0
PRODID:-//wp-events-plugin.com//7.2.3.1//EN
TZID:Europe/Berlin
X-WR-TIMEZONE:Europe/Berlin
BEGIN:VEVENT
UID:2639@frauenportal.koeln
DTSTART;TZID=Europe/Berlin:20200219T140000
DTEND;TZID=Europe/Berlin:20200219T150000
DTSTAMP:20260127T091705Z
URL:https://frauenportal.koeln/veranstaltungen/kein-freibrief-fuer-grapsch
 er-prostest-kundgebung/
SUMMARY:Kein Freibrief für Grapscher! - Prostest-Kundgebung
DESCRIPTION:Der Prostest richtet sich gegen die Einstellung eines Verfahren
 s wegen sexueller Belästigung mit der richterlichen Begründung:\n\n 	weg
 en Geringfügigkeit\n 	Tattag war der 11.11.\n 	Prozessökonomie\n\nDie Ze
 ugin wurde im Verfahren nicht gehört!\n\nDie Presse ist einladen und auch
  das EDELGARD-Mobil ist vor Ort\, das als Teil des Sicherheitskonzeptes de
 r Stadt Köln ab Weiberfastnacht bis Aschermittwoch wieder an der Zülpich
 er Straße stehen und Anlaufstelle für belästigte Frauen* und Mädchen* 
 sein wird.\n\nDownload: Offener Brief: So nicht! (pdf-Datei\, 145 KB)\n\nV
 eranstalterin:\nKölner Initiative gegen Sexualisierte Gewalt\n\nAnsprechp
 artnerin:\nIrmgard Kopetzky\, Tel.: 0221 / 562035\, E-Mail: mailbox@notruf
 -koeln.de\n\nVeranstaltungsort:\nVor dem Landgericht und Amtsgericht Köln
 \, Luxemburger Str. 101\, 50939 Köln\, [map id=15490]
END:VEVENT
BEGIN:VTIMEZONE
TZID:Europe/Berlin
X-LIC-LOCATION:Europe/Berlin
BEGIN:STANDARD
DTSTART:20191027T020000
TZOFFSETFROM:+0200
TZOFFSETTO:+0100
TZNAME:CET
END:STANDARD
END:VTIMEZONE
END:VCALENDAR