BEGIN:VCALENDAR
VERSION:2.0
PRODID:-//wp-events-plugin.com//7.2.3.1//EN
TZID:Europe/Berlin
X-WR-TIMEZONE:Europe/Berlin
BEGIN:VEVENT
UID:5565@frauenportal.koeln
DTSTART;TZID=Europe/Berlin:20250510T170000
DTEND;TZID=Europe/Berlin:20250510T183000
DTSTAMP:20250228T104606Z
URL:https://frauenportal.koeln/veranstaltungen/keine-fisematentchen-koeln-
 unter-den-franzosen/
SUMMARY:"Keine Fisematentchen!" - Köln unter den Franzosen
DESCRIPTION:Den Wandel von lieb gewonnenen Gewohnheiten aus dem Mittelalter
  zu radikal Neuem erlebten die Kölner brutal mit dem Einmarsch der Franzo
 sen 1794. Welche Erneuerungen gab es\, von denen wir noch heute profitiere
 n? Wie hat sich die Besatzerzeit im kölschen Dialekt niedergeschlagen? We
 lche kulturellen Verluste gab es damals?\n\nKosten: 14\,00 Euro\, ermäßi
 gt 12\,00 Euro.\n\nAnmeldung erforderlich bis 05.05.2025 unter service@tou
 r-agentur.de
END:VEVENT
BEGIN:VTIMEZONE
TZID:Europe/Berlin
X-LIC-LOCATION:Europe/Berlin
BEGIN:DAYLIGHT
DTSTART:20250330T030000
TZOFFSETFROM:+0100
TZOFFSETTO:+0200
TZNAME:CEST
END:DAYLIGHT
END:VTIMEZONE
END:VCALENDAR