BEGIN:VCALENDAR
VERSION:2.0
PRODID:-//wp-events-plugin.com//7.2.3.1//EN
TZID:Europe/Berlin
X-WR-TIMEZONE:Europe/Berlin
BEGIN:VEVENT
UID:3825@frauenportal.koeln
DTSTART;TZID=Europe/Berlin:20220701T170000
DTEND;TZID=Europe/Berlin:20220701T190000
DTSTAMP:20220630T135516Z
URL:https://frauenportal.koeln/veranstaltungen/keusch-oder-romantisch-lesb
 engeschichtliche-fuehrung-teil-1-5/
SUMMARY:Keusch oder Romantisch – Lesbengeschichtliche Führung Teil 1
DESCRIPTION:- Frühere Jahrhunderte - Keusch oder romantisch? –\n\nGab es
  früher überhaupt "homosexuelle" Frauen? Existierte nur die romantische 
 Freundschaft oder auch eine sexuelle Praxis? Anhand von Bildmotiven wie de
 m der Freundinnenschar der Heiligen Ursula nähert sich die Führung der F
 rauenliebe im Mittelalter und in der Frühen Neuzeit: bei Nonnen\, bei Fra
 uen in Männerkleidern und bei verheirateten Frauen\, die Liebesbriefe an 
 Frauen verfassten. Es wird aus alten Beginenregeln\, Gerichtsakten und Bri
 efen vorgelesen.\n\nVeranstalterin:\nKölner Frauengeschichtsverein e.V.\n
 \nKontakt:\nTel.: 0221 / 24 82 65\, E-Mail: info@frauengeschichtsverein.de
 \n\nKosten / Anmeldung:\nKostenbeitrag: 12 Euro. Anmeldung unter info@frau
 engeschichtsverein.de\n\nVeranstaltungsort:\nTreffpunkt: 17.00 Uhr vor St.
  Ursula\, Ursulaplatz\, 50668 Köln\, [map id=925]
END:VEVENT
BEGIN:VTIMEZONE
TZID:Europe/Berlin
X-LIC-LOCATION:Europe/Berlin
BEGIN:DAYLIGHT
DTSTART:20220327T030000
TZOFFSETFROM:+0100
TZOFFSETTO:+0200
TZNAME:CEST
END:DAYLIGHT
END:VTIMEZONE
END:VCALENDAR