BEGIN:VCALENDAR
VERSION:2.0
PRODID:-//wp-events-plugin.com//7.2.3.1//EN
TZID:Europe/Berlin
X-WR-TIMEZONE:Europe/Berlin
BEGIN:VEVENT
UID:5116@frauenportal.koeln
DTSTART;TZID=Europe/Berlin:20240706T140000
DTEND;TZID=Europe/Berlin:20240706T160000
DTSTAMP:20240628T095319Z
URL:https://frauenportal.koeln/veranstaltungen/keusch-oder-romantisch-lesb
 engeschichtliche-fuehrung/
SUMMARY:Keusch oder Romantisch – Lesbengeschichtliche Führung
DESCRIPTION:- Frühere Jahrhunderte - \n\nSeit wann lieb(t)en Frauen gleich
 geschlechtlich? Gab es früher nur die romantische Freundschaft oder auch 
 eine sexuelle Praxis? Anhand von Bildmotiven wie der Freundinnenschar der 
 Hl. Ursula wird die Frage nach Frauenliebe umkreist: Bei Nonnen\, bei Frau
 en\, die Männerkleidung trugen\, und bei verheirateten Frauen\, die heiß
 e Liebesbriefe an Frauen verfassten. Es wird aus alten Beginenregeln\, Ger
 ichtsakten und Liebesbriefen vorgelesen.\n\nVeranstalterin:\nKölner Fraue
 ngeschichtsverein e.V.\n\nKontakt:\nTel.: 0221 / 24 82 65\, E-Mail: info@f
 rauengeschichtsverein.de\n\nKosten / Anmeldung:\nKostenbeitrag: 12 Euro. A
 nmeldung unter info@frauengeschichtsverein.de\n\nTreffpunkt:\nVor St. Ursu
 la
LOCATION:St. Ursula\, Ursulaplatz\, 50668 Köln
GEO:50.945652;6.95455
X-APPLE-STRUCTURED-LOCATION;VALUE=URI;X-ADDRESS=Ursulaplatz\, Köln\, Nordr
 hein-Westfalen\, 50668\, Veranstaltungsort\, Deutschland;X-APPLE-RADIUS=10
 0;X-TITLE=St. Ursula:geo:50.945652,6.95455
END:VEVENT
BEGIN:VTIMEZONE
TZID:Europe/Berlin
X-LIC-LOCATION:Europe/Berlin
BEGIN:DAYLIGHT
DTSTART:20240331T030000
TZOFFSETFROM:+0100
TZOFFSETTO:+0200
TZNAME:CEST
END:DAYLIGHT
END:VTIMEZONE
END:VCALENDAR