BEGIN:VCALENDAR
VERSION:2.0
PRODID:-//wp-events-plugin.com//7.2.3.1//EN
TZID:Europe/Berlin
X-WR-TIMEZONE:Europe/Berlin
BEGIN:VEVENT
UID:520@frauenportal.koeln
DTSTART;TZID=Europe/Berlin:20170920T180000
DTEND;TZID=Europe/Berlin:20170920T200000
DTSTAMP:20170901T085005Z
URL:https://frauenportal.koeln/veranstaltungen/kindergarten-ist-da-wo-ein-
 garten-fuer-kinder-ist/
SUMMARY:Kindergarten ist da\, wo ein Garten für Kinder ist
DESCRIPTION:Die Erzieherin und Autorin Angelika Mauel (www.kindergartenkrit
 ik.de) liest satirische Kurzprosa aus der Reihe „Irmgard Icks\, die Erzi
 eherin mit den zwei Gesichtern“ und stellt Auszüge ihrer Sachtexte für
  das Magazin „unerzogen“ vor.\n\nWährend sich im Amtsdeutsch der Begr
 iff „Kita“ als Kürzel für „Kindertagesstätte“ etabliert\, gibt 
 es immer mehr Krippen und Kindergärten\, die Kindern nur einen viel zu kl
 einen oder gar keinen eigenen Garten mehr zur Verfügung stellen. Manche 
 „Kindergärten“ in den Metropolen sind derart von Platzmangel betroffe
 n\, dass Eltern es bereits besser finden\, ihr Kind in einen Kindergarten 
 ohne eigenen Garten zu bringen\, damit es mit seiner Gruppe auf öffentlic
 hen Spielplätzen und in Parks spielen sowie Ausflüge in Museen unternehm
 en kann…\n\nAngelika Mauel\, geb. 1960\, weist sachlich und satirisch au
 f die Absurditäten des Kindergartenalltags hin.\n\nVeranstalterin:\nBegin
 en Köln e.V.\n\nAnsprechpartnerin:\nKarola Kilens\, Tel.: 0221 / 9655820\
 , E-Mail: info@beginen.de\n\nAnmeldung / Kosten:\nEintritt frei (Spende er
 wünscht)\n\nVeranstaltungsort:\nBeginenfenster\, Markmannsgasse 7\, 50667
  Köln\, [map id=891]
END:VEVENT
BEGIN:VTIMEZONE
TZID:Europe/Berlin
X-LIC-LOCATION:Europe/Berlin
BEGIN:DAYLIGHT
DTSTART:20170326T030000
TZOFFSETFROM:+0100
TZOFFSETTO:+0200
TZNAME:CEST
END:DAYLIGHT
END:VTIMEZONE
END:VCALENDAR