BEGIN:VCALENDAR
VERSION:2.0
PRODID:-//wp-events-plugin.com//7.2.3.1//EN
TZID:Europe/Berlin
X-WR-TIMEZONE:Europe/Berlin
BEGIN:VEVENT
UID:1925@frauenportal.koeln
DTSTART;TZID=Europe/Berlin:20190524T190000
DTEND;TZID=Europe/Berlin:20190524T210000
DTSTAMP:20190430T124957Z
URL:https://frauenportal.koeln/veranstaltungen/klang-impulse-konzert-mit-m
 usikerinnen-der-gedok-koeln-und-bonn/
SUMMARY:Klang Impulse - Konzert mit Musikerinnen der GEDOK Köln und Bonn
DESCRIPTION:Es treten auf:\nDuo Kontrasax (Christina Fuchs\, Saxophon und R
 omy Herzberg\, Kontrabaß) //\nAnne Krickeberg\, Violoncello //\nTamara Lu
 kasheva\, Stimme //\nRena Meyer-Wiel\, Stimme //\nNicola Müllers\, Stimme
  //\nEli Thoböll\, Akkordeon //\nBettina Wenzel\, Stimme //\nJovita Zähl
 \, Klavier //\n\nAnschließend gibt es die Gelegenheit\, bei Wein und Brez
 el mit den Musikerinnen zu sprechen.\n\nHier ist die Einladung: Klangimpul
 se-Einladungskarte (pdf-Datei\, 100 KB)\n\nVeranstalterin:\nGEDOK Köln\n\
 nKontakt:\nGeschäftsstelle der GEDOK Köln\, Tel.: 0221 / 43 33 49\, E-Ma
 il: gedokkoeln@t-online.de\n\nKosten:\nDer Eintritt ist frei.\n\nVeranstal
 tungsort:\nKlaviere Then\, Wormser Strasse 41-43\, 50677 Köln\, [map id=9
 20]
END:VEVENT
BEGIN:VTIMEZONE
TZID:Europe/Berlin
X-LIC-LOCATION:Europe/Berlin
BEGIN:DAYLIGHT
DTSTART:20190331T030000
TZOFFSETFROM:+0100
TZOFFSETTO:+0200
TZNAME:CEST
END:DAYLIGHT
END:VTIMEZONE
END:VCALENDAR