BEGIN:VCALENDAR
VERSION:2.0
PRODID:-//wp-events-plugin.com//7.2.3.1//EN
TZID:Europe/Berlin
X-WR-TIMEZONE:Europe/Berlin
BEGIN:VEVENT
UID:3878@frauenportal.koeln
DTSTART;TZID=Europe/Berlin:20221014T190000
DTEND;TZID=Europe/Berlin:20221014T210000
DTSTAMP:20220831T102616Z
URL:https://frauenportal.koeln/veranstaltungen/knochen-steine-und-statisti
 ken-wie-man-praehistorische-geschlechter-erforscht/
SUMMARY:Knochen\, Steine und Statistiken - Wie man prähistorische Geschlec
 hter erforscht
DESCRIPTION:Der BeginenSalon lädt ein:                                    
                                                                           
                  Vortrag: Knochen\, Steine und Statistiken - Wie man präh
 istorische Geschlechter erforscht\n\nDie prähistorische Archäologie ist 
 ein Produkt bürgerlicher Amateur*innen des 19. Jahrhunderts. Das traditio
 nelle Bild der bürgerlichen Familie dieser Zeit prägte unhinterfragt die
  Vorstellungen über die Geschlechterrollen in der Archäologie.\nIn den l
 etzten 25-30 Jahren haben feministische Archäolog*innen dieses unausgespr
 ochene Paradigma in Frage gestellt und ihr eigenes Fach zum Untersuchungsg
 egenstand gemacht.\nSie haben interdisziplinäre Methoden zur Erforschung 
 von Geschlechterkonzepten der Vergangenheit entwickelt. Die Erforschung vo
 n Geschlechterthemen für Zeiten ohne schriftliche Aufzeichnungen konfront
 iert uns mit unseren eigenen\, mehr oder weniger unbewussten Konzepten. Da
 für sind ein theoretischer Rahmen und Methoden erforderlich\, die der Gef
 ahr von Vorannahmen Rechnung tragen.\n\nIn einem Vortrag werden die grundl
 egenden theoretischen Konzepte der prähistorischen Geschlechter-Archäolo
 gie und einzelne Ergebnisse vorstellt und einige der vielen offenen Fragen
  diskutiert. Ein besonderer Blick auf unsere Frauen-Geschichte! \n\nRefere
 ntinnen:\nJana Esther Fries (Archäologin\, Autorin\, Gründerin femARC\, 
 Oldenburg)\nGisela Schulte-Dornberg (Archäologin\, Autorin\, Gründerin f
 emARC\, Köln)\nAlexandra Kruglova (Archäologin\, Internationaler Lyceum 
 Club Köln e.V.)\n\nVeranstalterin:\nBeginenSalon/Beginen Köln e.V.\nin K
 ooperation mit femARC - Netzwerk archäologisch arbeitender Frauen\, www.f
 emarc.de\, und Internationaler Lyceum Club Köln e.V.\n\nAnsprechpartnerin
 :\nBrigitte Schäfer\, Sprecherin BeginenSalon\, E-Mail: info@beginenvilla
 .koeln\n\nKosten:\nEintritt frei.\n\nVeranstaltungsort:\nBeginenfenster\, 
 Markmannsgasse 7\, 50667 Köln\, [map id=891]
END:VEVENT
BEGIN:VTIMEZONE
TZID:Europe/Berlin
X-LIC-LOCATION:Europe/Berlin
BEGIN:DAYLIGHT
DTSTART:20220327T030000
TZOFFSETFROM:+0100
TZOFFSETTO:+0200
TZNAME:CEST
END:DAYLIGHT
END:VTIMEZONE
END:VCALENDAR