BEGIN:VCALENDAR
VERSION:2.0
PRODID:-//wp-events-plugin.com//7.2.3.1//EN
TZID:Europe/Berlin
X-WR-TIMEZONE:Europe/Berlin
BEGIN:VEVENT
UID:2783@frauenportal.koeln
DTSTART;TZID=Europe/Berlin:20210305T193000
DTEND;TZID=Europe/Berlin:20210305T210000
DTSTAMP:20210228T075135Z
URL:https://frauenportal.koeln/veranstaltungen/koeln-bei-nacht-nachtwaecht
 ertour-kostuemfuehrung-15-h-6/
SUMMARY:Köln bei Nacht - Nachtwächtertour - Kostümführung (1\,5 h)
DESCRIPTION:Der Termin findet nicht statt.\n\nSobald früher die Sonne unte
 rging\, weilte der ehrbare Mensch nicht mehr auf der Straße. Dennoch ware
 n die Straßen bevölkert. Auf dieser Stadtführung durch die nördliche K
 ölner Altstadt begeben sich die Teilnehmenden mit einem Nachtwächter auf
  die Fährte derjenigen\, die nachts durch die Straßen der Stadt schliche
 n. Sie erfahren\, wie der Nachtwächter mit lichtscheuem Gesindel verfuhr\
 , wie es um die verruchte Gesellschaft stand\, wo die Bettler nachts Unter
 schlupf fanden und warum so mancher ehrbare Bürger im Schutz der Dunkelhe
 it das Haus des Henkers aufsuchte. Glaube und Aberglaube lagen in dieser Z
 eit oft nah beieinander. \n\nAnmeldung erforderlich unter service@tour-age
 ntur.de\n\nDie Führung kostet 13\,00 Euro pro Person.\n\nWeiterer Termin 
 im März 2021:\nSamstag\, 13.03.2021
END:VEVENT
BEGIN:VTIMEZONE
TZID:Europe/Berlin
X-LIC-LOCATION:Europe/Berlin
BEGIN:STANDARD
DTSTART:20201025T020000
TZOFFSETFROM:+0200
TZOFFSETTO:+0100
TZNAME:CET
END:STANDARD
END:VTIMEZONE
END:VCALENDAR