BEGIN:VCALENDAR
VERSION:2.0
PRODID:-//wp-events-plugin.com//7.2.3.1//EN
TZID:Europe/Berlin
X-WR-TIMEZONE:Europe/Berlin
BEGIN:VEVENT
UID:5562@frauenportal.koeln
DTSTART;TZID=Europe/Berlin:20250406T140000
DTEND;TZID=Europe/Berlin:20250406T153000
DTSTAMP:20250228T105341Z
URL:https://frauenportal.koeln/veranstaltungen/koeln-unterirdisch-gross-st
 -martin-und-ubiermonument/
SUMMARY:Köln unterirdisch: Groß St. Martin und Ubiermonument -
DESCRIPTION:Das Ubiermonument ist das älteste\, erhaltene\, römische Stei
 nmonument nördlich der Alpen. Wozu diente der vormals fast 20 m hohe Turm
 ? Das Ubiermonunent liegt auch für viele „Kölnkenner“ etwas versteck
 t in der südöstlichsten Ecke der ehemaligen römischen Stadtmauer und is
 t zurzeit nur im Rahmen von angemeldeten Führungen zu besichtigen. \nIn d
 er Grabung unter der romanischen Altstadtkirche Groß St. Martin wird erkl
 ärt\, wozu die Römer das dortige Wasserbecken anlegten und was im Mittel
 alter aus der römischen Hafenhalle wurde.\n\nKosten: 18\,00 Euro\, ermä
 ßigt 16\,00 Euro\n\nAnmeldung erforderlich bis 01.04.2025 unter service@t
 our-agentur.de\n\nDiese Tour wird jeden ersten Sonntag im Monat angeboten!
END:VEVENT
BEGIN:VTIMEZONE
TZID:Europe/Berlin
X-LIC-LOCATION:Europe/Berlin
BEGIN:DAYLIGHT
DTSTART:20250330T030000
TZOFFSETFROM:+0100
TZOFFSETTO:+0200
TZNAME:CEST
END:DAYLIGHT
END:VTIMEZONE
END:VCALENDAR