BEGIN:VCALENDAR
VERSION:2.0
PRODID:-//wp-events-plugin.com//7.2.3.1//EN
TZID:Europe/Berlin
X-WR-TIMEZONE:Europe/Berlin
BEGIN:VEVENT
UID:2397@frauenportal.koeln
DTSTART;TZID=Europe/Berlin:20191208T140000
DTEND;TZID=Europe/Berlin:20191208T153000
DTSTAMP:20191023T112819Z
URL:https://frauenportal.koeln/veranstaltungen/koelner-lieder-und-musik-ah
 l-leedcher-un-kraetzjer-vorwiegend-op-koelsch-sing-mit/
SUMMARY:Kölner Lieder und Musik (Ahl Leedcher un Krätzjer) vorwiegend "op
  Kölsch" - Sing mit!
DESCRIPTION:Kaum etwas verkörpert mehr die Kölner Seele und Mentalität a
 ls Lieder von Willi Ostermann\, Jupp Schmitz\, Karl Berbuer\, Hans Knipp\,
  den Bläck-Fööss und vielen anderen Liedermachern.\nEine Tour für Mens
 chen\, die Lust haben\, einige Lieder und deren Geschichten an ausgewählt
 en Orten in der Altstadt kennen zu lernen (Textausschnitte zu den Liedern 
 werden bereitgehalten). \n\nKosten: Euro 12\,00 pro Person\nTreffpunkt: R
 ömertor auf der Domplatte am Dom (Kardinal-Höffner-Platz)\n\nErlebnistou
 ren Köln &amp\; Region - Tour-Agentur\n0221 93 272 63
END:VEVENT
BEGIN:VTIMEZONE
TZID:Europe/Berlin
X-LIC-LOCATION:Europe/Berlin
BEGIN:STANDARD
DTSTART:20191027T020000
TZOFFSETFROM:+0200
TZOFFSETTO:+0100
TZNAME:CET
END:STANDARD
END:VTIMEZONE
END:VCALENDAR