BEGIN:VCALENDAR
VERSION:2.0
PRODID:-//wp-events-plugin.com//7.2.3.1//EN
TZID:Europe/Berlin
X-WR-TIMEZONE:Europe/Berlin
BEGIN:VEVENT
UID:2752@frauenportal.koeln
DTSTART;TZID=Europe/Berlin:20200829T150000
DTEND;TZID=Europe/Berlin:20200829T183000
DTSTAMP:20200629T074800Z
URL:https://frauenportal.koeln/veranstaltungen/koelner-suedstadt-kulinaris
 cher-streifzug-mit-kostproben-35-h-2/
SUMMARY:Kölner Südstadt: Kulinarischer Streifzug mit Kostproben (3\,5 h)
DESCRIPTION:Das Flair der Kölner Südstadt ist legendär\; es wird Gaumenf
 reuden nachgegangen\, mal süß\, mal herzhaft\, aber immer lecker. Einige
  Geschäfte mit Spezialitäten heißen die Teilnehmenden willkommen\, auß
 erdem werden besondere Bistros und Restaurants gezeiget\, in dreien wird e
 in „Appetithäppchen“ gereicht. Aber es gibt auch "Finger-Food". Zwisc
 hen den „Stationen“ wird Unterhaltsames zum „Veedel“ serviert:\nWo
  stand die Welt-Schokoladenfabrik Stollwerck? Warum wurde ursprünglich je
 der\, der beim Naschen erwischt wurde\, bei Stollwerck sofort entlassen? W
 arum hieß der Firmensitz "Kamelle-Dom"? Warum war die Bäckerei "Schmitz 
 Backes" ein Symbol für "Freiheit erlangen"? Wo ist in Köln der "Invalide
 ndom"? Wo gibt es "lecker Pizza" und angesagte Burger?\n\nIm Preis sind Ko
 stproben\, Finger-Food und Häppchen enthalten\, aber keine Getränke.\nDi
 eses Event kostet 29\,00 Euro pro Person\, inkl. Kostproben.\n\nAnmeldung 
 bis 3 Tage vor Termin erforderlich unter service@tour-agentur.de
END:VEVENT
BEGIN:VTIMEZONE
TZID:Europe/Berlin
X-LIC-LOCATION:Europe/Berlin
BEGIN:DAYLIGHT
DTSTART:20200329T030000
TZOFFSETFROM:+0100
TZOFFSETTO:+0200
TZNAME:CEST
END:DAYLIGHT
END:VTIMEZONE
END:VCALENDAR